BEGIN:VCALENDAR
VERSION:2.0
PRODID:-//ChamberMaster//Event Calendar 2.0//EN
METHOD:PUBLISH
X-PUBLISHED-TTL:P3D
REFRESH-INTERVAL:P3D
CALSCALE:GREGORIAN
BEGIN:VEVENT
DTSTART:20150502T150000Z
DTEND:20150502T170000Z
X-MICROSOFT-CDO-ALLDAYEVENT:FALSE
SUMMARY:Car Seat Safety Check
DESCRIPTION:Be sure your child is safe.Have his or her car seat checked by a certified CPS technician!
X-ALT-DESC;FMTTYPE=text/html:Be sure your child is safe.Have his or her car seat checked by a certified CPS technician!
LOCATION:McMeen Physical Therapy 3811 Central Ave.\, Suite F Kearney\, NE
UID:e.1404.6222
SEQUENCE:3
DTSTAMP:20260422T182215Z
URL:https://chambermaster.kearneycoc.org/events/details/car-seat-safety-check-05-02-2015-6222
END:VEVENT

END:VCALENDAR
