BEGIN:VCALENDAR
VERSION:2.0
PRODID:-//ChamberMaster//Event Calendar 2.0//EN
METHOD:PUBLISH
X-PUBLISHED-TTL:P3D
REFRESH-INTERVAL:P3D
CALSCALE:GREGORIAN
BEGIN:VEVENT
DTSTART:20211108T200000Z
DTEND:20211109T000000Z
X-MICROSOFT-CDO-ALLDAYEVENT:FALSE
SUMMARY:Career Fair at Younes Hospitality
DESCRIPTION:Younes Hospitality is NOW HIRING for the new Crowne Plaza & Younes Conference Center North! \n\n\n\nAvailable positions include: Front desk associates\, housekeepers\, maintenance technicians\, lifeguards\, setup staff\, banquet servers\, kitchen staff & boutique sales associates.
X-ALT-DESC;FMTTYPE=text/html:Younes Hospitality is NOW HIRING for the new Crowne Plaza &amp\; Younes Conference Center North!&nbsp\;<br />\n<br />\nAvailable positions include: Front desk associates\, housekeepers\, maintenance technicians\, lifeguards\, setup staff\, banquet servers\, kitchen staff &amp\; boutique sales associates.&nbsp\;
LOCATION:Younes Conference Center South 416 West Talmadge Street Kearney\, NE
UID:e.1404.19454
SEQUENCE:3
DTSTAMP:20260423T233330Z
URL:https://chambermaster.kearneycoc.org/events/details/career-fair-at-younes-hospitality-19454
END:VEVENT

END:VCALENDAR
