BEGIN:VCALENDAR
VERSION:2.0
PRODID:-//ChamberMaster//Event Calendar 2.0//EN
METHOD:PUBLISH
X-PUBLISHED-TTL:P3D
REFRESH-INTERVAL:P3D
CALSCALE:GREGORIAN
BEGIN:VEVENT
DTSTART:20241109T003000Z
DTEND:20241109T023000Z
X-MICROSOFT-CDO-ALLDAYEVENT:FALSE
SUMMARY:CATAPULT
DESCRIPTION:Featured on season 8 of America's Got Talent\, CATAPULT is a nationally touring group of artists whose interpretive dance and amazing acrobatics create visual stories for the whole family!
X-ALT-DESC;FMTTYPE=text/html:Featured on season 8 of America&#39\;s Got Talent\, CATAPULT is a nationally touring group of artists whose interpretive dance and amazing acrobatics create visual stories for the whole family!
LOCATION:Merryman Performing Arts Center 225 W. 22 nd Street Kearney\, NE 68845
UID:e.1404.24934
SEQUENCE:3
DTSTAMP:20260423T165341Z
URL:https://chambermaster.kearneycoc.org/events/details/catapult-11-08-2024-24934
END:VEVENT

END:VCALENDAR
