BEGIN:VCALENDAR
VERSION:2.0
PRODID:-//ChamberMaster//Event Calendar 2.0//EN
METHOD:PUBLISH
X-PUBLISHED-TTL:P3D
REFRESH-INTERVAL:P3D
CALSCALE:GREGORIAN
BEGIN:VEVENT
DTSTART:20211107T210000Z
DTEND:20211107T223000Z
X-MICROSOFT-CDO-ALLDAYEVENT:FALSE
SUMMARY:CATAPULT
DESCRIPTION:CATAPULT\, featured on season 8 of America's Got Talent\, is a nationally touring group of artists whose interpretive dance and amazing acrobatics create visual stories for the whole family! Tickets are available online at pickmytickets.com or by calling the box office at (308) 698-8297.
X-ALT-DESC;FMTTYPE=text/html:CATAPULT\, featured on season 8 of America&#39\;s Got Talent\, is a nationally touring group of artists whose interpretive dance and amazing acrobatics create visual stories for the whole family! Tickets are available online at pickmytickets.com or by calling the box office at (308) 698-8297.
LOCATION:Merryman Performing Arts Center 225 W 22nd Street Kearney\, NE
UID:e.1404.19449
SEQUENCE:3
DTSTAMP:20260423T230646Z
URL:https://chambermaster.kearneycoc.org/events/details/catapult-19449
END:VEVENT

END:VCALENDAR
