BEGIN:VCALENDAR
VERSION:2.0
PRODID:-//ChamberMaster//Event Calendar 2.0//EN
METHOD:PUBLISH
X-PUBLISHED-TTL:P3D
REFRESH-INTERVAL:P3D
CALSCALE:GREGORIAN
BEGIN:VEVENT
DTSTART:20190811T000000Z
DTEND:20190811T210000Z
X-MICROSOFT-CDO-ALLDAYEVENT:FALSE
SUMMARY:Celebrate Broadway
DESCRIPTION:Celebrate Broadway Merryman Performing Arts Center 225 W. 22nd Street\, Kearney\, NE 68845 August 10\, 2019   7pm August 11\, 2019   2pm Tickets: $20 *Tickets available by calling 308-627-5796 or online at CraneRiverTheater.org. Celebrate the songs of Broadway with Crane River Theater in an unforgettable performance! Join cast members\, past and present\, as we bring back to life some of the most memorable production numbers from the last ten years of shows. Crane River Theater is proud to have featured artists from 33 states and counting\, with many performing on Broadway\, national tours\, cruise ships\, television shows\, feature films\, and regional theaters across the country. We are thrilled to have many of them return to Kearney for our tenth annual Celebrate Broadway to remind us why we fell in love with them the first time around. Performances will include songs from Godspell\, Into the Woods\, Grease\, Shrek\, Hairspray\, Tarzan\, Footloose\, Oklahoma\, Little Mermaid\, Joseph and the Amazing Technicolor Dreamcoat\, and many others. Whether you have seen every Crane River Theater show these last ten years\, or are joining us for the first time\, this is a production that is sure to entertain.
X-ALT-DESC;FMTTYPE=text/html:Celebrate Broadway Merryman Performing Arts Center 225 W. 22nd Street\, Kearney\, NE 68845 August 10\, 2019 &bull\; 7pm August 11\, 2019 &bull\; 2pm Tickets: $20 *Tickets available by calling 308-627-5796 or online at CraneRiverTheater.org. Celebrate the songs of Broadway with Crane River Theater in an unforgettable performance! Join cast members\, past and present\, as we bring back to life some of the most memorable production numbers from the last ten years of shows. Crane River Theater is proud to have featured artists from 33 states and counting\, with many performing on Broadway\, national tours\, cruise ships\, television shows\, feature films\, and regional theaters across the country. We are thrilled to have many of them return to Kearney for our tenth annual Celebrate Broadway to remind us why we fell in love with them the first time around. Performances will include songs from Godspell\, Into the Woods\, Grease\, Shrek\, Hairspray\, Tarzan\, Footloose\, Oklahoma\, Little Mermaid\, Joseph and the Amazing Technicolor Dreamcoat\, and many others. Whether you have seen every Crane River Theater show these last ten years\, or are joining us for the first time\, this is a production that is sure to entertain.
LOCATION:Merryman Performing Arts Center 225 W. 22nd Street\, Kearney\, NE 68845
UID:e.1404.14367
SEQUENCE:3
DTSTAMP:20260425T212745Z
URL:https://chambermaster.kearneycoc.org/events/details/celebrate-broadway-14367
END:VEVENT

END:VCALENDAR
