BEGIN:VCALENDAR
VERSION:2.0
PRODID:-//ChamberMaster//Event Calendar 2.0//EN
METHOD:PUBLISH
X-PUBLISHED-TTL:P3D
REFRESH-INTERVAL:P3D
CALSCALE:GREGORIAN
BEGIN:VEVENT
DTSTART:20151113T003000Z
DTEND:20151113T023000Z
X-MICROSOFT-CDO-ALLDAYEVENT:FALSE
SUMMARY:Celebration of Giving - Kearney Area Community Foundation
DESCRIPTION:10th Annual Celebration of Giving.\n\nWill be honoring outstanding giving in our community.
X-ALT-DESC;FMTTYPE=text/html:10th Annual Celebration of Giving.<br />\nWill be honoring outstanding giving in our community.&nbsp\;<br />\n&nbsp\;
LOCATION:Younes Center 416 Talmadge Rd
UID:e.1404.7055
SEQUENCE:3
DTSTAMP:20260422T084050Z
URL:https://chambermaster.kearneycoc.org/events/details/celebration-of-giving-kearney-area-community-foundation-11-12-2015-7055
END:VEVENT

END:VCALENDAR
