BEGIN:VCALENDAR
VERSION:2.0
PRODID:-//ChamberMaster//Event Calendar 2.0//EN
METHOD:PUBLISH
X-PUBLISHED-TTL:P3D
REFRESH-INTERVAL:P3D
CALSCALE:GREGORIAN
BEGIN:VEVENT
DTSTART:20151017T120000Z
DTEND:20151017T150000Z
X-MICROSOFT-CDO-ALLDAYEVENT:FALSE
SUMMARY:Central Nebraska Race for the Cure
DESCRIPTION:Whether you know someone personally affected by breast cancer\, you're a cancer survivor\, or just want to help raise funds and awareness for breast cancer\, join us on Oct. 17! Choose from a 5k timed run\, 5k fun run/walk or a 1-Mile walk. Various activities for all ages and activity levels. Seventy-five percent of proceeds stay in Nebraska for breast health education\, screening and treatment\, and the remainder funds national breast cancer research. Online registration opens Monday\, July 6\, at www.komennebraska.org Save $10 on an adult registration from July 6-17 using the Early Bird discount code: EARLY 2015.
X-ALT-DESC;FMTTYPE=text/html:Whether you know someone personally affected by breast cancer\, you&#39\;re a cancer survivor\, or just want to help raise funds and awareness for breast cancer\, join us on Oct. 17! Choose from a 5k timed run\, 5k fun run/walk or a 1-Mile walk. Various activities for all ages and activity levels. Seventy-five percent of proceeds stay in Nebraska for breast health education\, screening and treatment\, and the remainder funds national breast cancer research. Online registration opens Monday\, July 6\, at www.komennebraska.org Save $10 on an adult registration from July 6-17 using the Early Bird discount code: EARLY&nbsp\;2015.
LOCATION:University of Nebraska\, Kearney
UID:e.1404.6478
SEQUENCE:3
DTSTAMP:20260422T103922Z
URL:https://chambermaster.kearneycoc.org/events/details/central-nebraska-race-for-the-cure-10-17-2015-6478
END:VEVENT

END:VCALENDAR
