BEGIN:VCALENDAR
VERSION:2.0
PRODID:-//ChamberMaster//Event Calendar 2.0//EN
METHOD:PUBLISH
X-PUBLISHED-TTL:P3D
REFRESH-INTERVAL:P3D
CALSCALE:GREGORIAN
BEGIN:VEVENT
DTSTART:20121113T160000Z
DTEND:20121113T210000Z
X-MICROSOFT-CDO-ALLDAYEVENT:FALSE
SUMMARY:Century 2012: Economic Futures Forum
DESCRIPTION:The Nebraska Chamber of Commerce & Industry invites you and your members to attend the "Century 2012: Economic Futures Forum"\, an information-packed day-long economic forum.  Held at the Younes Conference Center in Kearney beginning at 10 am. on November 13th.
X-ALT-DESC;FMTTYPE=text/html:The Nebraska Chamber of Commerce &amp\; Industry invites you and your members to attend the &quot\;Century 2012: Economic Futures Forum&quot\;\, an information-packed day-long economic forum.&nbsp\; Held at the Younes Conference Center in Kearney beginning at 10 am. on November 13th.&nbsp\; 
LOCATION:Younes Conference Center
UID:e.1404.2200
SEQUENCE:3
DTSTAMP:20260424T223554Z
URL:https://chambermaster.kearneycoc.org/events/details/century-2012-economic-futures-forum-11-13-2012-2200
END:VEVENT

END:VCALENDAR
