BEGIN:VCALENDAR
VERSION:2.0
PRODID:-//ChamberMaster//Event Calendar 2.0//EN
METHOD:PUBLISH
X-PUBLISHED-TTL:P3D
REFRESH-INTERVAL:P3D
CALSCALE:GREGORIAN
BEGIN:VEVENT
DTSTART:20190928T220000Z
DTEND:20190929T000000Z
X-MICROSOFT-CDO-ALLDAYEVENT:FALSE
SUMMARY:Chamber Appreciation Night presented by UNK Athletics!
DESCRIPTION:Chamber Appreciation Night presented by UNK Athletic Department!\n\n\n\nThe Kearney Area Chamber of Commerce and the University of Nebraska at Kearney's Athletic Department invite you to Chamber Appreciation Night. The evening starts with Loper Fan Fest at 5pm in the new and improved Loperville. You will get one complimentary ticket to the game which also gets you into Loperville. Loper Fan Fest will be a perfect time to connect with other Chamber members while prepping to watch the Loper football team. The fun won't stop there though\, at kickoff\, come up stairs to the Weins room to watch the football game\, continue socializing and of course snacks. There is no better spot to watch football than the Weins room.\n\n\n\nIn order to get your ticket to the Wiens Room come find a Chamber staff member by the Chamber flags under the Loper tent in Loperville between 5 and 6:45pm. You will just need to sign in and then you will receive one ticket to watch the game from upstairs. There is a limited amount of tickets as the Wiens Room can only hold so many people.\n\n \n\nThere will be live music\, food and beverages during the Fan Fest and then some snacks available upstairs in the Wiens Room during the game. Chancellor is hoping to stop by as well. \n\n \n\nThe Chamber wants to thank Marc Bauer and his team in the UNK Athletic Department for hosting Chamber Appreciation Night!\n\n\n\nEnjoy food\, drinks and a voucher to the game!\n\nFree to Chamber Members.
X-ALT-DESC;FMTTYPE=text/html:<span style="font-size:14px\;">Chamber Appreciation Night presented by UNK Athletic Department!</span><br />\n<br />\n<span style="font-size:14px\;"><span style="font-family:helvetica\,sans-serif\;">The Kearney Area Chamber of Commerce and the University of Nebraska at Kearney&rsquo\;s Athletic Department invite you to Chamber Appreciation Night. The evening starts with Loper Fan Fest at 5pm in the new and improved Loperville. You will get one complimentary ticket to the game which also gets you into Loperville. Loper Fan Fest will be a perfect time to connect with other Chamber members while prepping to watch the Loper football team. The fun won&rsquo\;t stop there though\, at kickoff\, come up stairs to the Weins room to watch the football game\, continue socializing and of course snacks. There is no better spot to watch football than the Weins room.</span></span><br />\n<br />\n<span style="font-size: 14px\; font-family: helvetica\, sans-serif\;">In order to get your ticket to the Wiens Room come find a Chamber staff member by the Chamber flags under the Loper tent in Loperville between 5 and 6:45pm. You will just need to sign in and then you will receive one ticket to watch the game from upstairs. There is a limited amount of tickets as the Wiens Room can only hold so many people.</span><br style="font-size: 14px\;" />\n<span style="font-size: 14px\;">&nbsp\;</span><br style="font-size: 14px\;" />\n<span style="font-size: 14px\; font-family: helvetica\, sans-serif\;">There will be live music\, food and beverages during the Fan Fest and then some snacks available upstairs in the Wiens Room during the game. Chancellor is hoping to stop by as well.&nbsp\;</span><br style="font-size: 14px\;" />\n<span style="font-size: 14px\;">&nbsp\;</span><br style="font-size: 14px\;" />\n<span style="font-size: 14px\; font-family: helvetica\, sans-serif\;">The Chamber wants to thank Marc Bauer and his team in the UNK Athletic Department for hosting Chamber Appreciation Night!</span><br style="font-size: 14px\;" />\n<br style="font-size: 14px\;" />\n<span style="font-size: 14px\;">Enjoy food\, drinks and a voucher to the game!</span><br style="font-size: 14px\;" />\n<span style="font-size:14px\;">Free to Chamber Members.</span>
LOCATION:Join us for a fun tailgating experience in Loperville\, just outside of Ron & Carol Cope Stadium\, 5:00 - 7:00 p.m. then watch the UNK Lopers kick off against Pittsburg State at 7:00!
UID:e.1404.17848
SEQUENCE:3
DTSTAMP:20260425T195342Z
URL:https://chambermaster.kearneycoc.org/events/details/chamber-appreciation-night-presented-by-unk-athletics-17848
END:VEVENT

END:VCALENDAR
