BEGIN:VCALENDAR
VERSION:2.0
PRODID:-//ChamberMaster//Event Calendar 2.0//EN
METHOD:PUBLISH
X-PUBLISHED-TTL:P3D
REFRESH-INTERVAL:P3D
CALSCALE:GREGORIAN
BEGIN:VEVENT
DTSTART:20210202T140000Z
DTEND:20210202T150000Z
X-MICROSOFT-CDO-ALLDAYEVENT:FALSE
SUMMARY:Chamber Congress Chats
DESCRIPTION:Updates from Congressman Smith or from his District Coordinator Jerad Reimers.
X-ALT-DESC;FMTTYPE=text/html:Updates from Congressman Smith or from his District Coordinator Jerad Reimers.&nbsp\;
LOCATION:You are invited to a Zoom meeting. When: Feb 2\, 2021 08:00 AM Central Time (US and Canada) Register in advance for this meeting: https://zoom.us/meeting/register/tJAucu2gpz8vGtc8W7HAXV2tE5GL0S8OfjeM After registering\, you will receive a confirmation email containing information about joining the meeting.
UID:e.1404.19213
SEQUENCE:3
DTSTAMP:20260424T155628Z
URL:https://chambermaster.kearneycoc.org/events/details/chamber-congress-chats-19213
END:VEVENT

END:VCALENDAR
