BEGIN:VCALENDAR
VERSION:2.0
PRODID:-//ChamberMaster//Event Calendar 2.0//EN
METHOD:PUBLISH
X-PUBLISHED-TTL:P3D
REFRESH-INTERVAL:P3D
CALSCALE:GREGORIAN
BEGIN:VEVENT
DTSTART:20130308T170000Z
DTEND:20130308T200000Z
X-MICROSOFT-CDO-ALLDAYEVENT:FALSE
SUMMARY:Chamber Day
DESCRIPTION:It's Chamber Day!  We will be hand delivering our 2013 Chamber Directories and Window Clings to our members.  RSVP to Josh Jelden to volunteer to help deliver.  All volunteers will receive a free lunch.  You can help volunteer for as little or long as you like!
X-ALT-DESC;FMTTYPE=text/html:It&#39\;s Chamber Day! &nbsp\;We will be hand delivering our 2013 Chamber Directories and Window Clings to our members. &nbsp\;RSVP to Josh Jelden to volunteer to help deliver. &nbsp\;All volunteers will receive a free lunch. &nbsp\;You can help volunteer for as little or long as you like!
LOCATION:Meet at the Chamber office anytime between 11:00 AM and 2:00 PM on Friday\, March 8th
UID:e.1404.2249
SEQUENCE:3
DTSTAMP:20260424T154853Z
URL:https://chambermaster.kearneycoc.org/events/details/chamber-day-03-08-2013-2249
END:VEVENT

END:VCALENDAR
