BEGIN:VCALENDAR
VERSION:2.0
PRODID:-//ChamberMaster//Event Calendar 2.0//EN
METHOD:PUBLISH
X-PUBLISHED-TTL:P3D
REFRESH-INTERVAL:P3D
CALSCALE:GREGORIAN
BEGIN:VEVENT
DTSTART:20150722T130000Z
DTEND:20150722T220000Z
X-MICROSOFT-CDO-ALLDAYEVENT:FALSE
SUMMARY:Chamber Day!
DESCRIPTION:This is an annual event where staff and Chamber volunteers go out and visit Chamber member businesses to deliver the 2015 Membership Directory and 2015 Window Clings!  This is a great opportunity to volunteer and introduce yourself and your business to other Chamber members. This event lasts all day and we will provide lunch from Sozo and a $5 gift card to all volunteers! Contact Elizabeth Roetman if you are interested in participating!
X-ALT-DESC;FMTTYPE=text/html:This is an annual event where staff and Chamber volunteers go out and visit Chamber member businesses to deliver the 2015 Membership Directory and 2015 Window Clings! &nbsp\;This is a great opportunity to volunteer and introduce yourself and your business to other Chamber members. This event lasts all day and we will provide lunch from Sozo and a $5 gift card to all volunteers! Contact Elizabeth Roetman if you are interested in participating!
LOCATION:Kearney Area Chamber of Commerce 1007 2nd Avenue
UID:e.1404.6465
SEQUENCE:3
DTSTAMP:20260422T151349Z
URL:https://chambermaster.kearneycoc.org/events/details/chamber-day-07-22-2015-6465
END:VEVENT

END:VCALENDAR
