BEGIN:VCALENDAR
VERSION:2.0
PRODID:-//ChamberMaster//Event Calendar 2.0//EN
METHOD:PUBLISH
X-PUBLISHED-TTL:P3D
REFRESH-INTERVAL:P3D
CALSCALE:GREGORIAN
BEGIN:VEVENT
DTSTART;VALUE=DATE:20210223
DTEND;VALUE=DATE:20210225
TRANSP:TRANSPARENT
X-MICROSOFT-CDO-ALLDAYEVENT:TRUE
SUMMARY:Chamber Day!
DESCRIPTION:Join us for Chamber Day to help us deliver the new 2021 Chamber Membership directories!!\n2021 Chamber Directories are in! \n\n \n\nWe are excited to announce that Chamber Day has been set for \n\n \n\nTuesday\, February 23rd from 12 - 5 PM \n\n& Wednesday\, February 24th from \n\n8 - 11 AM & 1 - 5 PM\n\n \n\nThis is an annual event where Chamber staff and volunteers go out and visit Chamber member businesses to deliver the 2021 Membership Directories! This is a great opportunity to volunteer and introduce yourself & your business to other Chamber members.\n\n \n\nFor this years event we will be offering a pick-up option for businesses. If you are interested in picking up your directories\, please contact Shanna Schulte by Friday\, February 19th.\n\n \n\nIf you are interested in volunteering for this event please contact Shanna Schulte to sign up!\n\n \n\nCONTACT: Shanna Schulte\n\nsschulte@kearneycoc.org\n\n308.237.4671
X-ALT-DESC;FMTTYPE=text/html:Join us for Chamber Day to help us deliver the new 2021 Chamber Membership directories!!\n<div style="color: rgb(64\, 63\, 66)\; font-family: Arial\, Verdana\, Helvetica\, sans-serif\; font-size: 14px\; white-space: pre-wrap\; text-align: center\;"><span style="font-size: 18px\; font-weight: bold\; font-style: italic\; color: rgb(241\, 90\, 34)\;">2021 Chamber Directories are in! </span></div>\n\n<div style="color: rgb(64\, 63\, 66)\; font-family: Arial\, Verdana\, Helvetica\, sans-serif\; font-size: 14px\; white-space: pre-wrap\; text-align: center\;">&nbsp\;</div>\n\n<div style="color: rgb(64\, 63\, 66)\; font-family: Arial\, Verdana\, Helvetica\, sans-serif\; font-size: 14px\; white-space: pre-wrap\; text-align: center\;"><span style="color: rgb(107\, 107\, 107)\;">We are excited to announce that Chamber Day has been set for </span></div>\n\n<div style="color: rgb(64\, 63\, 66)\; font-family: Arial\, Verdana\, Helvetica\, sans-serif\; font-size: 14px\; white-space: pre-wrap\; text-align: center\;">&nbsp\;</div>\n\n<div style="color: rgb(64\, 63\, 66)\; font-family: Arial\, Verdana\, Helvetica\, sans-serif\; font-size: 14px\; white-space: pre-wrap\; text-align: center\;"><span style="color: rgb(19\, 106\, 113)\; font-weight: bold\; font-style: italic\;">Tuesday\, February 23rd from 12 - 5 PM </span></div>\n\n<div style="color: rgb(64\, 63\, 66)\; font-family: Arial\, Verdana\, Helvetica\, sans-serif\; font-size: 14px\; white-space: pre-wrap\; text-align: center\;"><span style="color: rgb(19\, 106\, 113)\; font-weight: bold\; font-style: italic\;">&amp\; Wednesday\, February 24th from </span></div>\n\n<div style="color: rgb(64\, 63\, 66)\; font-family: Arial\, Verdana\, Helvetica\, sans-serif\; font-size: 14px\; white-space: pre-wrap\; text-align: center\;"><span style="color: rgb(19\, 106\, 113)\; font-weight: bold\; font-style: italic\;">8 - 11 AM &amp\; 1 - 5 PM</span></div>\n\n<div style="color: rgb(64\, 63\, 66)\; font-family: Arial\, Verdana\, Helvetica\, sans-serif\; font-size: 14px\; white-space: pre-wrap\; text-align: center\;">&nbsp\;</div>\n\n<div style="color: rgb(64\, 63\, 66)\; font-family: Arial\, Verdana\, Helvetica\, sans-serif\; font-size: 14px\; white-space: pre-wrap\; text-align: center\;"><span style="color: rgb(107\, 107\, 107)\;">This is an annual event where Chamber staff and volunteers go out and visit Chamber member businesses to deliver the 2021 Membership Directories! This is a great opportunity to volunteer and introduce yourself &amp\; your business to other Chamber members.</span></div>\n\n<div style="color: rgb(64\, 63\, 66)\; font-family: Arial\, Verdana\, Helvetica\, sans-serif\; font-size: 14px\; white-space: pre-wrap\; text-align: center\;">&nbsp\;</div>\n\n<div style="color: rgb(64\, 63\, 66)\; font-family: Arial\, Verdana\, Helvetica\, sans-serif\; font-size: 14px\; white-space: pre-wrap\; text-align: center\;"><span style="color: rgb(107\, 107\, 107)\;">For this years event we will be offering a pick-up option for businesses. If you are interested in picking up your directories\, please contact Shanna Schulte by Friday\, February 19th.</span></div>\n\n<div style="color: rgb(64\, 63\, 66)\; font-family: Arial\, Verdana\, Helvetica\, sans-serif\; font-size: 14px\; white-space: pre-wrap\; text-align: center\;">&nbsp\;</div>\n\n<div style="color: rgb(64\, 63\, 66)\; font-family: Arial\, Verdana\, Helvetica\, sans-serif\; font-size: 14px\; white-space: pre-wrap\; text-align: center\;"><span style="color: rgb(107\, 107\, 107)\;">If you are interested in volunteering for this event please contact Shanna Schulte to sign up!</span></div>\n\n<div style="color: rgb(64\, 63\, 66)\; font-family: Arial\, Verdana\, Helvetica\, sans-serif\; font-size: 14px\; white-space: pre-wrap\; text-align: center\;">&nbsp\;</div>\n\n<div style="color: rgb(64\, 63\, 66)\; font-family: Arial\, Verdana\, Helvetica\, sans-serif\; font-size: 14px\; white-space: pre-wrap\; text-align: center\;"><span style="font-size: 16px\; color: rgb(19\, 106\, 113)\; font-weight: bold\;">CONTACT: Shanna Schulte</span></div>\n\n<div style="color: rgb(64\, 63\, 66)\; font-family: Arial\, Verdana\, Helvetica\, sans-serif\; font-size: 14px\; white-space: pre-wrap\; text-align: center\;"><span style="font-size: 16px\; color: rgb(19\, 106\, 113)\; font-weight: bold\;">sschulte@kearneycoc.org</span></div>\n\n<div style="color: rgb(64\, 63\, 66)\; font-family: Arial\, Verdana\, Helvetica\, sans-serif\; font-size: 14px\; white-space: pre-wrap\; text-align: center\;"><span style="font-size: 16px\; color: rgb(19\, 106\, 113)\; font-weight: bold\;">308.237.4671</span></div>\n
LOCATION:Kearney Area Chamber of Commerce 1007 2nd Ave.
UID:e.1404.19072
SEQUENCE:3
DTSTAMP:20260424T155332Z
URL:https://chambermaster.kearneycoc.org/events/details/chamber-day-19072
END:VEVENT

END:VCALENDAR
