BEGIN:VCALENDAR
VERSION:2.0
PRODID:-//ChamberMaster//Event Calendar 2.0//EN
METHOD:PUBLISH
X-PUBLISHED-TTL:P3D
REFRESH-INTERVAL:P3D
CALSCALE:GREGORIAN
BEGIN:VEVENT
DTSTART;VALUE=DATE:20220223
DTEND;VALUE=DATE:20220225
TRANSP:TRANSPARENT
X-MICROSOFT-CDO-ALLDAYEVENT:TRUE
SUMMARY:CHAMBER DAYS!
DESCRIPTION:Join us during Chamber Days to help deliver the new\n\n2022 Chamber Membership Directories! \n\n\n\nThis is a great opportunity to volunteer and introduce yourself & your business to other Chamber members!\n\n \n\nWednesday\, February 23rd\, 12-5 p.m.\n\nThursday\, February 24th\, 8:30-11:30 a.m. & 1-5 p.m.\n\n \n\nDuring this annual event\, the Chamber team and volunteers visit Chamber member businesses to deliver the 2022 Membership Directories.\n\n \n\nWe will again be offering a pick-up option for businesses. If you are interested in picking up your directories at the Chamber office\, please contact Amy Cope by Friday\, February 18th.\n\n \n\nIf you are interested in volunteering please contact Amy Cope to sign up!\n\n \n\nCONTACT: Amy Cope\n\nacope@kearneycoc.org\n\n308.237.4671
X-ALT-DESC;FMTTYPE=text/html:<div style="text-align: center\;"><br />\n<br />\n<br />\n<span style="font-size:14px\;"><strong>Join us during Chamber Days to help deliver the new<br />\n2022 Chamber Membership Directories!&nbsp\;<br />\n<br />\n<span style="color: rgb(64\, 63\, 66)\; text-align: center\; white-space: pre-wrap\;">This is a great opportunity to volunteer and introduce yourself &amp\; your business to other Chamber members!</span></strong></span><br />\n&nbsp\;</div>\n\n<div style="color: rgb(64\, 63\, 66)\; font-family: Arial\, Verdana\, Helvetica\, sans-serif\; font-size: 14px\; white-space: pre-wrap\; text-align: center\;"><span style="font-size:14px\;"><span style="color: rgb(19\, 106\, 113)\; font-weight: bold\; font-style: italic\;">Wednesday\, February 23rd\, 12-5 p.m.</span></span></div>\n\n<div style="color: rgb(64\, 63\, 66)\; font-family: Arial\, Verdana\, Helvetica\, sans-serif\; font-size: 14px\; white-space: pre-wrap\; text-align: center\;"><span style="font-size:14px\;"><span style="color: rgb(19\, 106\, 113)\; font-weight: bold\; font-style: italic\;">Thursday\, February 24th\, 8:30-11:30 a.m. &amp\; 1-5 p.m.</span></span></div>\n\n<div style="color: rgb(64\, 63\, 66)\; font-family: Arial\, Verdana\, Helvetica\, sans-serif\; font-size: 14px\; white-space: pre-wrap\; text-align: center\;">&nbsp\;</div>\n\n<div style="color: rgb(64\, 63\, 66)\; font-family: Arial\, Verdana\, Helvetica\, sans-serif\; font-size: 14px\; white-space: pre-wrap\; text-align: center\;"><span style="font-size:14px\;">During this annual event\, the Chamber team and volunteers visit Chamber member businesses to deliver the 2022 Membership Directories.</span></div>\n\n<div style="color: rgb(64\, 63\, 66)\; font-family: Arial\, Verdana\, Helvetica\, sans-serif\; font-size: 14px\; white-space: pre-wrap\; text-align: center\;">&nbsp\;</div>\n\n<div style="color: rgb(64\, 63\, 66)\; font-family: Arial\, Verdana\, Helvetica\, sans-serif\; font-size: 14px\; white-space: pre-wrap\; text-align: center\;"><span style="font-size:14px\;">We will again be offering a pick-up option for businesses. If you are interested in picking up your directories at the Chamber office\, please contact Amy Cope by Friday\, February 18th.</span></div>\n\n<div style="color: rgb(64\, 63\, 66)\; font-family: Arial\, Verdana\, Helvetica\, sans-serif\; font-size: 14px\; white-space: pre-wrap\; text-align: center\;">&nbsp\;</div>\n\n<div style="color: rgb(64\, 63\, 66)\; font-family: Arial\, Verdana\, Helvetica\, sans-serif\; font-size: 14px\; white-space: pre-wrap\; text-align: center\;"><span style="font-size:14px\;">If you are interested in volunteering please contact <a href="mailto:acope@kearneycoc.org">Amy Cope</a> to sign up!</span></div>\n\n<div style="color: rgb(64\, 63\, 66)\; font-family: Arial\, Verdana\, Helvetica\, sans-serif\; font-size: 14px\; white-space: pre-wrap\; text-align: center\;">&nbsp\;</div>\n\n<div style="color: rgb(64\, 63\, 66)\; font-family: Arial\, Verdana\, Helvetica\, sans-serif\; font-size: 14px\; white-space: pre-wrap\; text-align: center\;"><span style="font-size:14px\;"><span style="color: rgb(19\, 106\, 113)\; font-weight: bold\;">CONTACT: Amy Cope</span></span></div>\n\n<div style="color: rgb(64\, 63\, 66)\; font-family: Arial\, Verdana\, Helvetica\, sans-serif\; font-size: 14px\; white-space: pre-wrap\; text-align: center\;"><span style="font-size:14px\;"><a href="mailto:acope@kearneycoc.org"><span style="color: rgb(19\, 106\, 113)\; font-weight: bold\;">acope@kearneycoc.org</span></a></span></div>\n\n<div style="color: rgb(64\, 63\, 66)\; font-family: Arial\, Verdana\, Helvetica\, sans-serif\; font-size: 14px\; white-space: pre-wrap\; text-align: center\;"><span style="font-size:14px\;"><span style="color: rgb(19\, 106\, 113)\; font-weight: bold\;">308.237.4671</span></span></div>\n
LOCATION:Kearney Area Chamber of Commerce 1007 2nd Ave Kearney\, NE 68847
UID:e.1404.19645
SEQUENCE:3
DTSTAMP:20260423T180624Z
URL:https://chambermaster.kearneycoc.org/events/details/chamber-days-19645
END:VEVENT

END:VCALENDAR
