BEGIN:VCALENDAR
VERSION:2.0
PRODID:-//ChamberMaster//Event Calendar 2.0//EN
METHOD:PUBLISH
X-PUBLISHED-TTL:P3D
REFRESH-INTERVAL:P3D
CALSCALE:GREGORIAN
BEGIN:VEVENT
DTSTART:20151210T230000Z
DTEND:20151211T020000Z
X-MICROSOFT-CDO-ALLDAYEVENT:FALSE
SUMMARY:Chamber Holiday Reception
DESCRIPTION:Kearney Area Chamber of Commerce \n\nHoliday Reception
X-ALT-DESC;FMTTYPE=text/html:Kearney Area Chamber of Commerce&nbsp\;<br />\nHoliday Reception
LOCATION:The Archway
UID:e.1404.6694
SEQUENCE:3
DTSTAMP:20260422T064632Z
URL:https://chambermaster.kearneycoc.org/events/details/chamber-holiday-reception-12-10-2015-6694
END:VEVENT

END:VCALENDAR
