BEGIN:VCALENDAR
VERSION:2.0
PRODID:-//ChamberMaster//Event Calendar 2.0//EN
METHOD:PUBLISH
X-PUBLISHED-TTL:P3D
REFRESH-INTERVAL:P3D
CALSCALE:GREGORIAN
BEGIN:VEVENT
DTSTART:20121213T230000Z
DTEND:20121214T020000Z
X-MICROSOFT-CDO-ALLDAYEVENT:FALSE
SUMMARY:Chamber Holiday Reception
DESCRIPTION:Come and help us celebrate the Holidays and thank our many Chamber Volunteers!
X-ALT-DESC;FMTTYPE=text/html:Come and help us celebrate the Holidays and thank our many Chamber Volunteers!
LOCATION:Midtown Event Center 115 E 21st St Kearney\, NE 68847
UID:e.1404.2198
SEQUENCE:3
DTSTAMP:20260424T204642Z
URL:https://chambermaster.kearneycoc.org/events/details/chamber-holiday-reception-12-13-2012-2198
END:VEVENT

END:VCALENDAR
