BEGIN:VCALENDAR
VERSION:2.0
PRODID:-//ChamberMaster//Event Calendar 2.0//EN
METHOD:PUBLISH
X-PUBLISHED-TTL:P3D
REFRESH-INTERVAL:P3D
CALSCALE:GREGORIAN
BEGIN:VEVENT
DTSTART:20160818T140000Z
DTEND:20160818T210000Z
X-MICROSOFT-CDO-ALLDAYEVENT:FALSE
SUMMARY:Chamber YOUniversity - Grow Your Business with Social Media
DESCRIPTION:Build an effective social media strategy to promote and grow your business.\n\n\n\nDoes it seem like these days everyone's "liking\," "tweeting\," "following\," "tagging\," "streaming\," "sharing" or joining the blogosphere? Are you feeling the pressure to jump on the social media bandwagon\, but concerned you don't have enough information or expertise to do it properly?\n\n\n\nDon't stress about it! This workshop will teach you everything you need to know about social media in just one exciting\, power-packed day of training.\n\nWhen it comes to driving traffic to your website\; generating buzz and interest about your products and services\; creating a real-time\, personal connection with prospects and customers\; and generating qualified leads your sales team can act on right away\, nothing beats social media. Time and again\, companies with a strong social media presence are coming out ahead\, and their success shows in their bottom line.\n\n\n\nSocial media marketing is cost-effective\, flexible\, responsive\, measurable and relatively easy to get started. The benefits far outweigh the risks\, and the payoffs can be lucrative. In short\, opting to create a social media presence for your organization is one of the smartest marketing decisions you can make.\n\n\n\nIn just one day\, you'll discover:\n\n	Facebook\, LinkedIn\, Twitter\, YouTube\, MySpace and more!   understand the different social media platforms\n	Determine which platforms are best for meeting your organization's goals\n	Setting up your own social network   from initial marketing plan to live rollout\n	Hits? Views? Fans? Tweets? Likes? How   and what   you should measure to gauge social media effectiveness\n	Managing your online reputation: dos and don'ts for handling negative criticism and comments\n	Case Study: What makes other companies' social media campaigns successful   or miss the mark\n\nFred Pryor Seminars will be presenting this information. An on-site workshop provides the perfect forum for real learning. Instructor-led discussions\, exercises\, and in-class practice time help drive home key skills and techniques. These interactive strategies help participants use more of what they learn in everyday situations.\n\nBenefits of this program:\n\n	Learn to choose the platforms that best fit your organization's marketing needs (Facebook? Twitter? YouTube? LinkedIn? MySpace?)\n	Gain stellar strategies for developing a well-thought- out marketing plan that incorporates the most effective platforms\n	Create a launch checklist and rollout timetable Find ways to monitor your plan's effectiveness by measuring results and determining ROI\n	Evaluate your plan based on results in order to maintain the status quo or change gears to ensure greater success\n\nWho should attend?\n\nProfessionals in  \n\nMarketing Sales Advertising Public Relations\n\nCorporate Communication\n\nBusiness Strategy\n\nSmall Business Owners\n\nAnyone who wants to include social media strategies in their overall marketing and communications plan\n\n\n\nFred Pryor Seminars/CareerTrack\, divisions of Park University Enterprises\, Inc. is an approved provider of Continuing Education Units (CEUs)\, credits approved by the Project Management Institute (PMI) \, the HR Certification Institute (HRCI)\, and the National Association of State Boards of Accountancy (NASBA). This course qualifies for 6 CPE credits.
X-ALT-DESC;FMTTYPE=text/html:Build an effective social media strategy to promote and grow your business.<br />\n<br />\nDoes it seem like these days everyone&rsquo\;s &ldquo\;liking\,&rdquo\;&nbsp\;&ldquo\;tweeting\,&rdquo\; &ldquo\;following\,&rdquo\; &ldquo\;tagging\,&rdquo\; &ldquo\;streaming\,&rdquo\; &ldquo\;sharing&rdquo\; or joining the blogosphere? Are you feeling the pressure to jump on the social media bandwagon\, but concerned you don&rsquo\;t have enough information or&nbsp\;expertise to do it properly?<br />\n<br />\nDon&rsquo\;t stress about it! This workshop will teach you everything you need to know about social media in just one exciting\, power-packed day of training.<br />\nWhen it comes to driving traffic to your website\; generating buzz and interest about your products and services\; creating a real-time\, personal connection with prospects and customers\; and generating qualified leads your sales team can act on right away\, nothing beats social media. Time and again\, companies with a strong social media presence are coming out ahead\, and their success shows in their bottom line.<br />\n<br />\nSocial media marketing is cost-effective\, flexible\, responsive\, measurable and relatively easy to get started. The benefits far outweigh the risks\, and the payoffs can be lucrative. In short\, opting to create a social media presence for your organization is one of the smartest marketing decisions you can make.<br />\n<br />\nIn just one day\, you&rsquo\;ll discover:\n<ul>\n	<li>Facebook\, LinkedIn\, Twitter\, YouTube\, MySpace and more! &mdash\; understand the different social media platforms</li>\n	<li>Determine which platforms are best for meeting your organization&rsquo\;s goals</li>\n	<li>Setting up your own social network &mdash\; from initial marketing plan to live rollout</li>\n	<li>Hits? Views? Fans? Tweets? Likes? How &mdash\; and what &mdash\; you should measure to gauge social media effectiveness</li>\n	<li>Managing your online reputation: dos and don&rsquo\;ts for handling negative criticism and comments</li>\n	<li>Case Study: What makes other companies&rsquo\; social media campaigns successful &mdash\; or miss the mark</li>\n</ul>\nFred Pryor Seminars will be presenting this information.&nbsp\;An on-site workshop provides the perfect forum for&nbsp\;real learning. Instructor-led discussions\, exercises\, and in-class practice time help drive home key skills and techniques. These interactive strategies help participants use more of what they learn in everyday situations.<br />\nBenefits of this program:\n<ul>\n	<li>Learn to choose the platforms that best fit your organization&rsquo\;s marketing needs (Facebook? Twitter? YouTube? LinkedIn? MySpace?)</li>\n	<li>Gain stellar strategies for developing a well-thought- out marketing plan that incorporates the most effective platforms</li>\n	<li>Create a launch checklist and rollout timetable Find ways to monitor your plan&rsquo\;s effectiveness by measuring results and determining ROI</li>\n	<li>Evaluate your plan based on results in order to maintain the status quo or change gears to ensure greater success</li>\n</ul>\n<u><strong>Who should attend?</strong></u><br />\nProfessionals in &hellip\;<br />\nMarketing Sales Advertising Public Relations<br />\nCorporate Communication<br />\nBusiness Strategy<br />\nSmall Business Owners<br />\nAnyone who wants to include social media strategies in their overall marketing and communications plan<br />\n<br />\nFred Pryor Seminars/CareerTrack\, divisions of Park University Enterprises\, Inc. is an approved provider of Continuing Education Units (CEUs)\, credits approved by the Project Management Institute (PMI)&reg\;\, the HR Certification Institute (HRCI)\, and the National Association of State Boards of Accountancy (NASBA). This course qualifies for 6 CPE credits.&nbsp\;
LOCATION:Harmon Park Activity Center 3100 5th Ave Kearney NE 68847
UID:e.1404.7473
SEQUENCE:3
DTSTAMP:20260421T172143Z
URL:https://chambermaster.kearneycoc.org/events/details/chamber-youniversity-grow-your-business-with-social-media-08-18-2016-7473
END:VEVENT

END:VCALENDAR
