BEGIN:VCALENDAR
VERSION:2.0
PRODID:-//ChamberMaster//Event Calendar 2.0//EN
METHOD:PUBLISH
X-PUBLISHED-TTL:P3D
REFRESH-INTERVAL:P3D
CALSCALE:GREGORIAN
BEGIN:VEVENT
DTSTART:20140911T210000Z
DTEND:20140911T220000Z
X-MICROSOFT-CDO-ALLDAYEVENT:FALSE
SUMMARY:Chamber YOUniversity! How to write a great press release by Mary Jane Skala
DESCRIPTION:Do you want news about your organization or non-profit in the Kearney Hub\, but you're not sure how to do it? Mary Jane Skala\, business and features reporter for the Hub\, will tell you all you need to know in her presentation. Mary Jane compiles the biz briefs that run every Saturday. She also writes stories about new businesses\, transitioning businesses and business trends such as the Affordable Care Act and about interesting people in Kearney.
X-ALT-DESC;FMTTYPE=text/html:<span style="color: rgb(0\, 51\, 102)\; font-family: Helvetica\, Arial\, sans-serif\; font-size: 16px\; background-color: rgb(245\, 245\, 245)\;">Do you want news about your organization or non-profit in the Kearney Hub\, but you&#39\;re not sure how to do it? Mary Jane Skala\, business and features reporter for the Hub\, will tell you all you need to know in her presentation. Mary Jane compiles the biz briefs that run every Saturday. She also writes stories about new businesses\, transitioning businesses and business trends such as the Affordable Care Act and about interesting people in Kearney.</span>
LOCATION:Kearney Area Chamber of Commerce
UID:e.1404.5166
SEQUENCE:3
DTSTAMP:20260423T084838Z
URL:https://chambermaster.kearneycoc.org/events/details/chamber-youniversity-how-to-write-a-great-press-release-by-mary-jane-skala-09-11-2014-5166
END:VEVENT

END:VCALENDAR
