BEGIN:VCALENDAR
VERSION:2.0
PRODID:-//ChamberMaster//Event Calendar 2.0//EN
METHOD:PUBLISH
X-PUBLISHED-TTL:P3D
REFRESH-INTERVAL:P3D
CALSCALE:GREGORIAN
BEGIN:VEVENT
DTSTART:20150406T170000Z
DTEND:20150413T170000Z
X-MICROSOFT-CDO-ALLDAYEVENT:FALSE
SUMMARY:Chautauqua Book discussion O Pioneers! by Willa Cather
DESCRIPTION:Join us Thursday\, April 9 at 7:00 p.m. for the second book discussion of the ?Free Land? 1862 and the Shaping of Modern America\,? Chautauqua Reading and Film Series at Kearney Public Library. The featured book will be O Pioneers! by Willa Cather. Discussion and presentation will be led by Tracy Tucker from the Cather Foundation. Tucker oversees the Willa Cather Foundation collection and presents regularly on topics related to Cather\, Great Plains literature\, and the environment. A book drawing will be held for each Chautauqua title. A second session will be held Sunday\, April 12 at 2:00 p.m. at Thunderhead Brewery\, 18 E 21st Street.
X-ALT-DESC;FMTTYPE=text/html:Join us Thursday\, April 9 at 7:00 p.m. for the second book discussion of the ?Free Land? 1862 and the Shaping of Modern America\,? Chautauqua Reading and Film Series at Kearney Public Library. The featured book will be O Pioneers! by Willa Cather. Discussion and presentation will be led by Tracy Tucker from the Cather Foundation. Tucker oversees the Willa Cather Foundation collection and presents regularly on topics related to Cather\, Great Plains literature\, and the environment. A book drawing will be held for each Chautauqua title. A second session will be held Sunday\, April 12 at 2:00 p.m. at Thunderhead Brewery\, 18 E 21st Street.
LOCATION:Kearney Public Library 2020 1st Avenue Kearney\, NE
UID:e.1404.6199
SEQUENCE:3
DTSTAMP:20260422T200424Z
URL:https://chambermaster.kearneycoc.org/events/details/chautauqua-book-discussion-o-pioneers-by-willa-cather-04-06-2015-6199
END:VEVENT

END:VCALENDAR
