BEGIN:VCALENDAR
VERSION:2.0
PRODID:-//ChamberMaster//Event Calendar 2.0//EN
METHOD:PUBLISH
X-PUBLISHED-TTL:P3D
REFRESH-INTERVAL:P3D
CALSCALE:GREGORIAN
BEGIN:VEVENT
DTSTART:20210213T170000Z
DTEND:20210213T210000Z
X-MICROSOFT-CDO-ALLDAYEVENT:FALSE
SUMMARY:Chocolate Crawl on the Bricks
DESCRIPTION:Come to Downtown Kearney for the first ever Chocolate Crawl on the Bricks on Saturday\, February 13th where you'll taste your way through the historic district with an array of chocolate treats! Check-in is from 11 AM - noon at Ktown Cakery located at 2300 Central Avenue where you'll receive a box and map and have a chance to win a downtown date night. Tickets are $7 and must be presented at check-in. There are only 50 available\, so reserve yours online now at https://www.eventbrite.com/myevent?eid=139377318311! Any remaining boxes will be available there as well payable by cash or check. Participating locations include Bow & Arrow Boutique\, Divas Floral Shop & Boutique\, Ktown Cakery\, Ktown Shakedown\, Paint Paradise\, the Solid Rock\, Tilted Tulip\, TRU Cafe and Wee Cycle Children's Consignment & Boutique. Proceeds from this event go toward Downtown Kearney's general marketing fund to continue having fun events. On behalf of the district\, its merchants and its board\, thank you for your support!
X-ALT-DESC;FMTTYPE=text/html:Come to Downtown Kearney for the first ever Chocolate Crawl on the Bricks on Saturday\, February 13th where you&#39\;ll taste your way through the historic district with an array of chocolate treats! Check-in is from 11 AM - noon at Ktown Cakery located at 2300 Central Avenue where you&#39\;ll receive a box and map and have a chance to win a downtown date night. Tickets are $7 and must be presented at check-in. There are only 50 available\, so reserve yours online now at https://www.eventbrite.com/myevent?eid=139377318311! Any remaining boxes will be available there as well payable by cash or check. Participating locations include Bow &amp\; Arrow Boutique\, Divas Floral Shop &amp\; Boutique\, Ktown Cakery\, Ktown Shakedown\, Paint Paradise\, the Solid Rock\, Tilted Tulip\, TRU Cafe and Wee Cycle Children&#39\;s Consignment &amp\; Boutique. Proceeds from this event go toward Downtown Kearney&#39\;s general marketing fund to continue having fun events. On behalf of the district\, its merchants and its board\, thank you for your support!
LOCATION:Downtown Kearney
UID:e.1404.19212
SEQUENCE:3
DTSTAMP:20260424T155507Z
URL:https://chambermaster.kearneycoc.org/events/details/chocolate-crawl-on-the-bricks-19212
END:VEVENT

END:VCALENDAR
