BEGIN:VCALENDAR
VERSION:2.0
PRODID:-//ChamberMaster//Event Calendar 2.0//EN
METHOD:PUBLISH
X-PUBLISHED-TTL:P3D
REFRESH-INTERVAL:P3D
CALSCALE:GREGORIAN
BEGIN:VEVENT
DTSTART:20210619T000000Z
DTEND:20210704T020000Z
X-MICROSOFT-CDO-ALLDAYEVENT:FALSE
SUMMARY:Cinderella
DESCRIPTION:"Impossible things are happening every day!" Join Crane River Theater under the open sky at Yanney Park as this magical fairy tale is reborn with originality\, charm and elegance. Cinderella spends her days in a life of servitude for her cruel stepmother\, and dreams of a better life. With the help of her Fairy Godmother\, her wishes come true\, and she's transformed into a beautiful princess. She meets a handsome prince\, but must leave before the spell wears off and her dress turns back to rags. Leaving behind just one glass slipper\, will the Prince be able to find Cinderella and live happily ever after? Originally presented on television starring Julie Andrews\, "Cinderella" continues to captivate audiences year after year. After all\, even if we know the story by heart\, we still hold our breath until we are sure that the slipper fits.
X-ALT-DESC;FMTTYPE=text/html:&ldquo\;Impossible things are happening every day!&rdquo\; Join Crane River Theater under the open sky at Yanney Park as this magical fairy tale is reborn with originality\, charm and elegance. Cinderella spends her days in a life of servitude for her cruel stepmother\, and dreams of a better life. With the help of her Fairy Godmother\, her wishes come true\, and she&rsquo\;s transformed into a beautiful princess. She meets a handsome prince\, but must leave before the spell wears off and her dress turns back to rags. Leaving behind just one glass slipper\, will the Prince be able to find Cinderella and live happily ever after? Originally presented on television starring Julie Andrews\, &ldquo\;Cinderella&rdquo\; continues to captivate audiences year after year. After all\, even if we know the story by heart\, we still hold our breath until we are sure that the slipper fits.
LOCATION:Yanney Heritage Park 2020 W 11th St Kearney\, NE 68845
UID:e.1404.19260
SEQUENCE:3
DTSTAMP:20260424T060125Z
URL:https://chambermaster.kearneycoc.org/events/details/cinderella-19260
END:VEVENT

END:VCALENDAR
