BEGIN:VCALENDAR
VERSION:2.0
PRODID:-//ChamberMaster//Event Calendar 2.0//EN
METHOD:PUBLISH
X-PUBLISHED-TTL:P3D
REFRESH-INTERVAL:P3D
CALSCALE:GREGORIAN
BEGIN:VEVENT
DTSTART:20220429T000000Z
DTEND:20220429T023000Z
X-MICROSOFT-CDO-ALLDAYEVENT:FALSE
SUMMARY:Classic Nashville LIVE
DESCRIPTION:Take a walk down a "country" memory lane with your favorite classic hits! Jason Petty and Broadway star Gail Bliss celebrate the songs made famous by Dolly Parton\, Hank Williams\, Patsy Cline\, Tammy Wynette\, George Jones\, Merle Haggard and many more! Tickets are available online at pickmytickets.com or by calling the box office at (308) 698-8297.
X-ALT-DESC;FMTTYPE=text/html:Take a walk down a &ldquo\;country&rdquo\; memory lane with your favorite classic hits! Jason Petty and Broadway star Gail Bliss celebrate the songs made famous by Dolly Parton\, Hank Williams\, Patsy Cline\, Tammy Wynette\, George Jones\, Merle Haggard and many more! Tickets are available online at pickmytickets.com or by calling the box office at (308) 698-8297.
LOCATION:Merryman Performing Arts Center 225 W 22nd Street Kearney\, NE
UID:e.1404.19448
SEQUENCE:3
DTSTAMP:20260423T163934Z
URL:https://chambermaster.kearneycoc.org/events/details/classic-nashville-live-04-28-2022-19448
END:VEVENT

END:VCALENDAR
