BEGIN:VCALENDAR
VERSION:2.0
PRODID:-//ChamberMaster//Event Calendar 2.0//EN
METHOD:PUBLISH
X-PUBLISHED-TTL:P3D
REFRESH-INTERVAL:P3D
CALSCALE:GREGORIAN
BEGIN:VEVENT
DTSTART:20150121T000000Z
DTEND:20150121T020000Z
X-MICROSOFT-CDO-ALLDAYEVENT:FALSE
SUMMARY:Classic on the Road Meeting
DESCRIPTION:Classic on the Road Meeting \n\nSponsored by Nebraska Cattlemen's Classic
X-ALT-DESC;FMTTYPE=text/html:Classic on the Road Meeting&nbsp\;<br />\nSponsored by Nebraska Cattlemen&#39\;s Classic
LOCATION:NMC Cat Rental Building 2608 E 32nd St Place\, Suite C Kearney\, NE
UID:e.1404.5959
SEQUENCE:3
DTSTAMP:20260423T002758Z
URL:https://chambermaster.kearneycoc.org/events/details/classic-on-the-road-meeting-01-20-2015-5959
END:VEVENT

END:VCALENDAR
