BEGIN:VCALENDAR
VERSION:2.0
PRODID:-//ChamberMaster//Event Calendar 2.0//EN
METHOD:PUBLISH
X-PUBLISHED-TTL:P3D
REFRESH-INTERVAL:P3D
CALSCALE:GREGORIAN
BEGIN:VEVENT
DTSTART:20260513T170000Z
DTEND:20260513T180000Z
X-MICROSOFT-CDO-ALLDAYEVENT:FALSE
SUMMARY:Cline Williams Academy Webinar - Protecting What You’ve Built: IP Strategies for Product Design
DESCRIPTION:Your product design is one of your most valuable assets. But without the right protections\, it's also one of the most vulnerable. In this webinar\, we'll break down the full toolkit of intellectual property strategies available to product designers and brands. From design patents that protect the ornamental look of your product\, to trade dress rights covering both packaging and product appearance\, to copyright protection for creative design elements\, you'll leave with a clear roadmap for layering these protections to build a durable competitive advantage.
X-ALT-DESC;FMTTYPE=text/html:Your product design is one of your most valuable assets. But without the right protections\, it&rsquo\;s also one of the most vulnerable. In this webinar\, we&rsquo\;ll break down the full toolkit of intellectual property strategies available to product designers and brands. From design patents that protect the ornamental look of your product\, to trade dress rights covering both packaging and product appearance\, to copyright protection for creative design elements\, you&#39\;ll leave with a clear roadmap for layering these protections to build a durable competitive advantage.
LOCATION:Complimentary Webinar\, CLICK HERE TO REGISTER
UID:e.1404.26279
SEQUENCE:3
DTSTAMP:20260426T042243Z
URL:https://chambermaster.kearneycoc.org/events/details/cline-williams-academy-webinar-protecting-what-you-ve-built-ip-strategies-for-product-design-26279
END:VEVENT

END:VCALENDAR
