BEGIN:VCALENDAR
VERSION:2.0
PRODID:-//ChamberMaster//Event Calendar 2.0//EN
METHOD:PUBLISH
X-PUBLISHED-TTL:P3D
REFRESH-INTERVAL:P3D
CALSCALE:GREGORIAN
BEGIN:VEVENT
DTSTART:20220914T170000Z
DTEND:20220914T180000Z
X-MICROSOFT-CDO-ALLDAYEVENT:FALSE
SUMMARY:Cline Williams Law Forum Webinar: Managing Employee Leave and Benefit Requests in a Post-Pandemic World
DESCRIPTION:Addressing employee leave and benefit requests has become increasingly more complex in today's workplaces.  Employers must navigate an intricate array of laws and policies while providing consistent and accurate information to employees on their rights and obligations. In this interactive webinar\, we will address navigating employee leave and benefits requests\, discuss requirements and best practices under applicable law\, and examine trends in an ever-changing labor environment.  Attendees will learn about the following:\n						\n							When employees are obligated to offer job-protected leave under the Family and Medical Leave Act (FMLA)\n							How to evaluate FMLA requests\, eligibility\, and notification requirements\n							Responding to employees' requests for reasonable accommodation under the Americans with Disabilities Act (ADA)\n							When employers must provide leave as a reasonable accommodation under the ADA and how much leave is considered "reasonable"\n							Managing challenges in employees' leave from and return to work\, including benefits eligibility and coverage\n							Employers' obligations under USERRA and the Internal Revenue Code\n							Workplace trends in challenging recruiting environments\n							Tools to meet and manage employee expectations
X-ALT-DESC;FMTTYPE=text/html:<table border="0" cellpadding="0" cellspacing="0" style="width:100.0%">\n	<tbody>\n		<tr>\n			<td style="vertical-align:top">\n			<table border="0" cellpadding="0" cellspacing="0" style="width:100.0%">\n				<tbody>\n					<tr>\n						<td style="vertical-align:top"><span style="color:#0E2E48"><span style="font-family:arial\,sans-serif"><span style="font-size:11.5pt">Addressing employee leave and benefit requests has become increasingly more complex in today&rsquo\;s workplaces.&nbsp\; Employers must navigate an intricate array of laws and policies while providing consistent and accurate information to employees on their rights and obligations. In this interactive webinar\, we will address navigating employee leave and benefits requests\, discuss requirements and best practices under applicable law\, and examine trends in an ever-changing labor environment.&nbsp\; Attendees will learn about the following:</span></span></span>\n						<ul>\n							<li><span style="color:#0E2E48"><span style="font-family:arial\,sans-serif"><span style="font-size:11.5pt">When employees are obligated to offer job-protected leave under the Family and Medical Leave Act (FMLA)</span></span></span></li>\n							<li><span style="color:#0E2E48"><span style="font-family:arial\,sans-serif"><span style="font-size:11.5pt">How to evaluate FMLA requests\, eligibility\, and notification requirements</span></span></span></li>\n							<li><span style="color:#0E2E48"><span style="font-family:arial\,sans-serif"><span style="font-size:11.5pt">Responding to employees&#39\; requests for reasonable accommodation under the Americans with Disabilities Act (ADA)</span></span></span></li>\n							<li><span style="color:#0E2E48"><span style="font-family:arial\,sans-serif"><span style="font-size:11.5pt">When employers must provide leave as a reasonable accommodation under the ADA and how much leave is considered &quot\;reasonable&quot\;</span></span></span></li>\n							<li><span style="color:#0E2E48"><span style="font-family:arial\,sans-serif"><span style="font-size:11.5pt">Managing challenges in employees&#39\; leave from and return to work\, including benefits eligibility and coverage</span></span></span></li>\n							<li><span style="color:#0E2E48"><span style="font-family:arial\,sans-serif"><span style="font-size:11.5pt">Employers&#39\; obligations under USERRA and the Internal Revenue Code</span></span></span></li>\n							<li><span style="color:#0E2E48"><span style="font-family:arial\,sans-serif"><span style="font-size:11.5pt">Workplace trends in challenging recruiting environments</span></span></span></li>\n							<li><span style="color:#0E2E48"><span style="font-family:arial\,sans-serif"><span style="font-size:11.5pt">Tools to meet and manage employee expectations</span></span></span></li>\n						</ul>\n						</td>\n					</tr>\n				</tbody>\n			</table>\n			</td>\n		</tr>\n	</tbody>\n</table>\n
LOCATION:Click here to register for this webinar: Webinar Registration - Zoom
UID:e.1404.20061
SEQUENCE:3
DTSTAMP:20260421T123118Z
URL:https://chambermaster.kearneycoc.org/events/details/cline-williams-law-forum-webinar-managing-employee-leave-and-benefit-requests-in-a-post-pandemic-world-20061
END:VEVENT

END:VCALENDAR
