BEGIN:VCALENDAR
VERSION:2.0
PRODID:-//ChamberMaster//Event Calendar 2.0//EN
METHOD:PUBLISH
X-PUBLISHED-TTL:P3D
REFRESH-INTERVAL:P3D
CALSCALE:GREGORIAN
BEGIN:VEVENT
DTSTART:20211208T180000Z
DTEND:20211208T190000Z
X-MICROSOFT-CDO-ALLDAYEVENT:FALSE
SUMMARY:Cline Williams Law Forum Webinar-The Price is Wrong: A DOL Insider's Perspective on Common Wage and Hour Mistakes
DESCRIPTION:The attorneys of Cline Williams will be joined by the U.S. Department of Labor   Wage and Hour Division to discuss the most common mistakes employers make when it comes to wage and hour issues. The program will include an interactive discussion of:\n\n\n\n  Best practices for employers of all sizes to make sure they are properly designating employees as exempt or non-exempt under federal law.\n\n\n\n  Pointers and tips for accurately identifying whether your workers are employees or independent contractors.\n\n\n\n  How to address common wage/hour issues\, such as compensation for on-call time\, permissible wage deductions\, and bonuses.
X-ALT-DESC;FMTTYPE=text/html:<span style="background-color:rgb(255\, 255\, 255)\; color:rgb(35\, 35\, 51)\; font-family:lato\,helvetica\,arial\; font-size:14px">The attorneys of Cline Williams will be joined by the U.S. Department of Labor &ndash\; Wage and Hour Division to discuss the most common mistakes employers make when it comes to wage and hour issues. The program will include an interactive discussion of:</span><br />\n<br />\n<span style="background-color:rgb(255\, 255\, 255)\; color:rgb(35\, 35\, 51)\; font-family:lato\,helvetica\,arial\; font-size:14px">&bull\; Best practices for employers of all sizes to make sure they are properly designating employees as exempt or non-exempt under federal law.</span><br />\n<br />\n<span style="background-color:rgb(255\, 255\, 255)\; color:rgb(35\, 35\, 51)\; font-family:lato\,helvetica\,arial\; font-size:14px">&bull\; Pointers and tips for accurately identifying whether your workers are employees or independent contractors.</span><br />\n<br />\n<span style="background-color:rgb(255\, 255\, 255)\; color:rgb(35\, 35\, 51)\; font-family:lato\,helvetica\,arial\; font-size:14px">&bull\; How to address common wage/hour issues\, such as compensation for on-call time\, permissible wage deductions\, and bonuses.</span>
LOCATION:To register\, click here:https://us02web.zoom.us/webinar/register/WN_AiGqOKKQRdq7w83k6PSuuA
UID:e.1404.19459
SEQUENCE:3
DTSTAMP:20260423T215139Z
URL:https://chambermaster.kearneycoc.org/events/details/cline-williams-law-forum-webinar-the-price-is-wrong-a-dol-insider-s-perspective-on-common-wage-and-hour-mistakes-19459
END:VEVENT

END:VCALENDAR
