BEGIN:VCALENDAR
VERSION:2.0
PRODID:-//ChamberMaster//Event Calendar 2.0//EN
METHOD:PUBLISH
X-PUBLISHED-TTL:P3D
REFRESH-INTERVAL:P3D
CALSCALE:GREGORIAN
BEGIN:VEVENT
DTSTART;VALUE=DATE:20140823
DTEND;VALUE=DATE:20140824
TRANSP:TRANSPARENT
X-MICROSOFT-CDO-ALLDAYEVENT:TRUE
SUMMARY:Coed Mud Volleyball Tournament
DESCRIPTION:Coed Mud Volleyball Tournament to benefit the 2014 Walk to End Alzheimer?s. Food and Drinks will be onsite  Winning Team Takes Home $250 T-shirts Included All Registration Fees are Nonrefundable
X-ALT-DESC;FMTTYPE=text/html:Coed Mud Volleyball Tournament to benefit the&nbsp\;2014 Walk to End Alzheimer?s. Food and Drinks will be onsite&nbsp\; Winning Team Takes Home $250 T-shirts Included All Registration Fees are Nonrefundable
LOCATION:Buffalo County Fairgrounds\, Kearney NE
UID:e.1404.5306
SEQUENCE:3
DTSTAMP:20260423T104012Z
URL:https://chambermaster.kearneycoc.org/events/details/coed-mud-volleyball-tournament-08-23-2014-5306
END:VEVENT

END:VCALENDAR
