BEGIN:VCALENDAR
VERSION:2.0
PRODID:-//ChamberMaster//Event Calendar 2.0//EN
METHOD:PUBLISH
X-PUBLISHED-TTL:P3D
REFRESH-INTERVAL:P3D
CALSCALE:GREGORIAN
BEGIN:VEVENT
DTSTART:20200225T140000Z
DTEND:20200225T150000Z
X-MICROSOFT-CDO-ALLDAYEVENT:FALSE
SUMMARY:Coffee & Company - CHI Good Samaritan Gift Shop & Coffee Cart
DESCRIPTION:Join us for Coffee & Company with the Good Samaritan Hospital\, Gift Shop and Coffee Cart!
X-ALT-DESC;FMTTYPE=text/html:Join us for Coffee &amp\; Company with the Good Samaritan Hospital\, Gift Shop and Coffee Cart!
LOCATION:10 E. 31st St. Enter through the West Tower Entrance\, from 2nd Ave.
UID:e.1404.18322
SEQUENCE:3
DTSTAMP:20260425T114336Z
URL:https://chambermaster.kearneycoc.org/events/details/coffee-company-chi-good-samaritan-gift-shop-coffee-cart-18322
END:VEVENT

END:VCALENDAR
