BEGIN:VCALENDAR
VERSION:2.0
PRODID:-//ChamberMaster//Event Calendar 2.0//EN
METHOD:PUBLISH
X-PUBLISHED-TTL:P3D
REFRESH-INTERVAL:P3D
CALSCALE:GREGORIAN
BEGIN:VEVENT
DTSTART:20151110T140000Z
DTEND:20151110T150000Z
X-MICROSOFT-CDO-ALLDAYEVENT:FALSE
SUMMARY:Coffee & Company-First National Bank
DESCRIPTION:Join us for Coffee & Company at First National Bank. Attendees will meet and hear from First National Bank's Retail-Commercial-Wealth Management-Mortgage staff and get an update on the North branch remodel. This is also your chance to register to win UNK tickets! Please enter through the south doors. Don't forget your business cards!
X-ALT-DESC;FMTTYPE=text/html:<span style="font-size:12px\;"><span style="font-family:verdana\;"><span style="background-image:initial\;background-attachment:initial\;background-size:initial\;background-origin:initial\;background-clip:initial\;background-position:initial\;background-repeat:initial\;">Join us for Coffee &amp\; Company at First National Bank. Attendees will meet and hear from First National Bank&#39\;s Retail-Commercial-Wealth Management-Mortgage staff and get an update on the North branch remodel. This is also your chance to register to win UNK tickets! Please enter through the south doors. Don&#39\;t forget your business cards!&nbsp\;&nbsp\;</span><br />\n&nbsp\;</span></span><br />\n<br />\n&nbsp\;
LOCATION:First National Bank 2223 2nd Avenue Kearney\, Nebraska
UID:e.1404.5955
SEQUENCE:3
DTSTAMP:20260422T083858Z
URL:https://chambermaster.kearneycoc.org/events/details/coffee-company-first-national-bank-11-10-2015-5955
END:VEVENT

END:VCALENDAR
