BEGIN:VCALENDAR
VERSION:2.0
PRODID:-//ChamberMaster//Event Calendar 2.0//EN
METHOD:PUBLISH
X-PUBLISHED-TTL:P3D
REFRESH-INTERVAL:P3D
CALSCALE:GREGORIAN
BEGIN:VEVENT
DTSTART:20160602T130000Z
DTEND:20160602T140000Z
X-MICROSOFT-CDO-ALLDAYEVENT:FALSE
SUMMARY:Coffee & Company-Miller & Associates Consulting Engineers
DESCRIPTION:Join us for Coffee & Company\, a casual gathering held once per month in a Chamber Member business. It provides members an opportunity to showcase their business and network with other area business leaders. The business host has an opportunity to talk about their business\, their facility\, introduce key staff\, or any special events that will be coming up.  \n\n \n\nThis is a great way to meet\, greet\, and exchange business cards with other professionals. While there is definitely coffee drinking going on\, more importantly\, there are issues being discussed\, relationships being formed and business networking with potential customers and partners. Don't forget your business cards!
X-ALT-DESC;FMTTYPE=text/html:<span style="font-size:12px\;"><span style="font-family:verdana\;"><span style="background-image:initial\;background-attachment:initial\;background-size:initial\;background-origin:initial\;background-clip:initial\;background-position:initial\;background-repeat:initial\;">Join us for Coffee &amp\; Company\, a casual gathering held once per month in a Chamber Member business. It provides members an opportunity to showcase their business and network with other area business leaders. The business host has an opportunity to talk about their business\, their facility\, introduce key staff\, or any special events that will be coming up.&nbsp\; </span><br />\n&nbsp\;<br />\nThis is a great way to meet\, greet\, and exchange business cards with other professionals. While there is definitely coffee drinking going on\, more importantly\, there are issues being discussed\, relationships being formed and business networking with potential customers and partners. Don&#39\;t forget your business cards!</span></span><br />\n&nbsp\;
LOCATION:Miller & Associates Consulting Engineers PC 1111 Central Ave Kearney\, Nebraska
UID:e.1404.8570
SEQUENCE:3
DTSTAMP:20260421T202739Z
URL:https://chambermaster.kearneycoc.org/events/details/coffee-company-miller-associates-consulting-engineers-06-02-2016-8570
END:VEVENT

END:VCALENDAR
