BEGIN:VCALENDAR
VERSION:2.0
PRODID:-//ChamberMaster//Event Calendar 2.0//EN
METHOD:PUBLISH
X-PUBLISHED-TTL:P3D
REFRESH-INTERVAL:P3D
CALSCALE:GREGORIAN
BEGIN:VEVENT
DTSTART:20190821T130000Z
DTEND:20190821T140000Z
X-MICROSOFT-CDO-ALLDAYEVENT:FALSE
SUMMARY:Coffee & Company - NebraskaLand National Bank
DESCRIPTION:Join us for Coffee & Company with NebraskaLand National Bank!
X-ALT-DESC;FMTTYPE=text/html:Join us for Coffee &amp\; Company with NebraskaLand National Bank!
LOCATION:4615 2nd Ave. Kearney NE
UID:e.1404.16601
SEQUENCE:3
DTSTAMP:20260425T213305Z
URL:https://chambermaster.kearneycoc.org/events/details/coffee-company-nebraskaland-national-bank-16601
END:VEVENT

END:VCALENDAR
