BEGIN:VCALENDAR
VERSION:2.0
PRODID:-//ChamberMaster//Event Calendar 2.0//EN
METHOD:PUBLISH
X-PUBLISHED-TTL:P3D
REFRESH-INTERVAL:P3D
CALSCALE:GREGORIAN
BEGIN:VEVENT
DTSTART:20210623T130000Z
DTEND:20210623T140000Z
X-MICROSOFT-CDO-ALLDAYEVENT:FALSE
SUMMARY:Coffee & Company with the Nebraska Veterans First Committee and the Central Nebraska Veterans Home
DESCRIPTION:Join us for Coffee & Company with the Nebraska Veterans First Committee and the Central Nebraska Veterans Home. Meet the new Administrator\, Vail Oleson\, and hear an update on the Central Nebraska Veterans Home.
X-ALT-DESC;FMTTYPE=text/html:Join us for Coffee &amp\; Company with the Nebraska Veterans First Committee and the Central Nebraska Veterans Home. Meet the new Administrator\, Vail Oleson\, and hear an update on the Central Nebraska Veterans Home.&nbsp\;
LOCATION:Kearney Area Chamber of Commerce Board Room
UID:e.1404.19320
SEQUENCE:3
DTSTAMP:20260424T081807Z
URL:https://chambermaster.kearneycoc.org/events/details/coffee-company-with-the-nebraska-veterans-first-committee-and-the-central-nebraska-veterans-home-19320
END:VEVENT

END:VCALENDAR
