BEGIN:VCALENDAR
VERSION:2.0
PRODID:-//ChamberMaster//Event Calendar 2.0//EN
METHOD:PUBLISH
X-PUBLISHED-TTL:P3D
REFRESH-INTERVAL:P3D
CALSCALE:GREGORIAN
BEGIN:VEVENT
DTSTART:20140812T210000Z
DTEND:20140812T220000Z
X-MICROSOFT-CDO-ALLDAYEVENT:FALSE
SUMMARY:Colonels
DESCRIPTION:Colonel Meeting
X-ALT-DESC;FMTTYPE=text/html:Colonel Meeting&nbsp\;
LOCATION:Kearney Area Chamber of Commerce Board Room
UID:e.1404.1640
SEQUENCE:3
DTSTAMP:20260423T095836Z
URL:https://chambermaster.kearneycoc.org/events/details/colonels-08-12-2014-1640
END:VEVENT

END:VCALENDAR
