BEGIN:VCALENDAR
VERSION:2.0
PRODID:-//ChamberMaster//Event Calendar 2.0//EN
METHOD:PUBLISH
X-PUBLISHED-TTL:P3D
REFRESH-INTERVAL:P3D
CALSCALE:GREGORIAN
BEGIN:VEVENT
DTSTART:20220913T210000Z
DTEND:20220913T220000Z
X-MICROSOFT-CDO-ALLDAYEVENT:FALSE
SUMMARY:Colonels
DESCRIPTION:*NOTE - this is a fee based group and new members must be nominated to participate. Please contact Heather Ullman for more information before submitting a registration.\n\n\n\nChair: Mat Cope - Cope Ag Services\n\nVice Chair:  John Becker - CopyCat Printing\n\n\n\nThis month's meeting will be held at the Kearney Police Department located at 2025 Avenue A.  Come upstairs to the administration area located on the second floor\; our meeting will take place in the multipurpose room.  We won't be presenting a Doing Business Award this month.  Social to follow at Brix\, located at 14 E 21st St. downtown.\n\n\n\n\n\nThe Colonels Club is a men's group whose purpose is to serve as a public relations arm of the Kearney Area Chamber of Commerce. The Colonels Club does this is by supporting the "Doing Business" award\, attending and promoting grand openings\, Ribbon Cuttings\, Business After Hours\, Gateway Farm Expo\, the KACC Annual Meeting and the Kearney Golf Classic and by working on membership recruitment and retention. Colonels are limited to one Colonel per business and 50 members. This group does have a small annual fee.
X-ALT-DESC;FMTTYPE=text/html:<em><strong>*NOTE -</strong>&nbsp\;this is a fee based group and new members must be nominated to participate. Please contact <a href="mailto:hullman@kearneycoc.org">Heather Ullman</a> for more information before submitting a registration.</em><br />\n<br />\n<span style="font-size:14px\;"><span style="font-family:arial\;"><strong>Chair:</strong>&nbsp\;Mat Cope - Cope Ag Services</span></span><br />\n<span style="font-size:14px\;"><span style="font-family:arial\;"><strong>Vice Chair:&nbsp\; </strong>John Becker - CopyCat Printing</span></span><br />\n<br />\nThis month&#39\;s meeting will be held at the Kearney Police Department located at 2025 Avenue A.&nbsp\; Come upstairs to the administration area located on the second floor\; our meeting will take place in the multipurpose room.&nbsp\; We won&rsquo\;t be presenting a Doing Business Award this month.&nbsp\; Social to follow at Brix\, located at 14 E 21st St. downtown.<br />\n<br />\n<br />\n<span style="font-size:14px\;"><span style="font-family:arial\;">The Colonels Club is a men&rsquo\;s group whose purpose is to serve as a public relations arm of the Kearney Area Chamber of Commerce. The Colonels Club does this is by supporting the &ldquo\;Doing Business&rdquo\; award\, attending and promoting grand openings\, Ribbon Cuttings\, Business After Hours\, Gateway Farm Expo\, the KACC Annual Meeting and the Kearney Golf Classic and by working on membership recruitment and retention.&nbsp\;Colonels are limited to one Colonel per business and 50 members. This group does have a small annual fee.</span></span>
LOCATION:Kearney Police Department located at 2025 Avenue A
UID:e.1404.1737
SEQUENCE:3
DTSTAMP:20260421T115405Z
URL:https://chambermaster.kearneycoc.org/events/details/colonels-09-13-2022-1737
END:VEVENT

END:VCALENDAR
