BEGIN:VCALENDAR
VERSION:2.0
PRODID:-//ChamberMaster//Event Calendar 2.0//EN
METHOD:PUBLISH
X-PUBLISHED-TTL:P3D
REFRESH-INTERVAL:P3D
CALSCALE:GREGORIAN
BEGIN:VEVENT
DTSTART:20211214T220000Z
DTEND:20211215T010000Z
X-MICROSOFT-CDO-ALLDAYEVENT:FALSE
SUMMARY:Colonels
DESCRIPTION:Holiday Party RSVP  - Please respond by November 24th so we can lock in the date!\n\n\nCome celebrate the last Colonel's gathering for the year at Cunningham's Journal on the Bricks on December 14th from 4:00 p.m. - 7:00 p.m.  \n\n\n\n\n\nChair: Casey Fosher - Exchange Bank\n\nVice Chair:  Mat Cope - Cope Ag Services\n\n\n\nThe Colonels Club is a men's group whose purpose is to serve as a public relations arm of the Kearney Area Chamber of Commerce. The Colonels Club does this is by supporting the "Doing Business" award\, attending and promoting grand openings\, Ribbon Cuttings\, Business After Hours\, Gateway Farm Expo\, the KACC Annual Meeting and the Kearney Golf Classic and by working on membership recruitment and retention. Colonels are limited to one Colonel per business and 50 members. This group does have a small annual fee.
X-ALT-DESC;FMTTYPE=text/html:<div style="text-align: center\;"><span style="font-size:14px\;"><span style="font-family:arial\;"><span style="color:#B22222\;"><span style="font-size:16px\;"><strong>Holiday Party RSVP&nbsp\; - Please respond by November 24th so we can lock in the date!</strong></span></span></span></span></div>\n<br />\n<span style="font-size:14px\;"><span style="font-family:arial\;"><span style="color:#B22222\;"><span style="font-size:16px\;"><strong>Come celebrate the last Colonel&#39\;s gathering for the year at Cunningham&#39\;s Journal on the Bricks on December 14th from 4:00 p.m. - 7:00 p.m.&nbsp\;&nbsp\;</strong></span></span><br />\n<br />\n<br />\nChair:&nbsp\;Casey Fosher</span></span><span style="color: rgb(51\, 51\, 51)\; font-family: arial\; font-size: 14px\; background-color: rgb(255\, 255\, 255)\;">&nbsp\;- Exchange Bank</span><br />\n<span style="font-size:14px\;"><span style="font-family:arial\;"><strong>Vice Chair:&nbsp\; </strong>Mat Cope - Cope Ag Services<br />\n<br />\nThe Colonels Club is a men&rsquo\;s group whose purpose is to serve as a public relations arm of the Kearney Area Chamber of Commerce. The Colonels Club does this is by supporting the &ldquo\;Doing Business&rdquo\; award\, attending and promoting grand openings\, Ribbon Cuttings\, Business After Hours\, Gateway Farm Expo\, the KACC Annual Meeting and the Kearney Golf Classic and by working on membership recruitment and retention.&nbsp\;Colonels are limited to one Colonel per business and 50 members. This group does have a small annual fee.</span></span>
LOCATION:Cunningham's Journal on the Bricks - Downtown
UID:e.1404.1728
SEQUENCE:3
DTSTAMP:20260423T213439Z
URL:https://chambermaster.kearneycoc.org/events/details/colonels-12-14-2021-1728
END:VEVENT

END:VCALENDAR
