BEGIN:VCALENDAR
VERSION:2.0
PRODID:-//ChamberMaster//Event Calendar 2.0//EN
METHOD:PUBLISH
X-PUBLISHED-TTL:P3D
REFRESH-INTERVAL:P3D
CALSCALE:GREGORIAN
BEGIN:VEVENT
DTSTART:20151208T220000Z
DTEND:20151209T000000Z
X-MICROSOFT-CDO-ALLDAYEVENT:FALSE
SUMMARY:Colonels Christmas Party
DESCRIPTION:Chair: Randy Tonniges - Tonniges & Associates\n\nVice Chair: Doug Mitchell - Marcotte Insurance\n\n\n\nThe Colonels Club is a men's group whose purpose is to serve as a public relations arm of the Kearney Area Chamber of Commerce.\n\nThe Colonels Club does this is by supporting the "Doing Business" award\, attending and promoting grand openings\, Ribbon Cuttings\, Business After Hours\, Gateway Farm Expo\, the KACC Annual Meeting and the Kearney Golf Classic and by working on membership recruitment and retention. Colonels are limited to one Colonel per business and 50 members. This group does have a small annual fee.
X-ALT-DESC;FMTTYPE=text/html:<span style="font-size:14px\;"><span style="font-family:arial\;"><strong>Chair:</strong> Randy Tonniges - Tonniges &amp\; Associates<br />\n<strong>Vice Chair:</strong> Doug Mitchell - Marcotte Insurance<br />\n<br />\nThe Colonels Club is a men&rsquo\;s group whose purpose is to serve as a public relations arm of the Kearney Area Chamber of Commerce.<br />\nThe Colonels Club does this is by supporting the &ldquo\;Doing Business&rdquo\; award\, attending and promoting grand openings\, Ribbon Cuttings\, Business After Hours\, Gateway Farm Expo\, the KACC Annual Meeting and the Kearney Golf Classic and by working on membership recruitment and retention.&nbsp\;Colonels are limited to one Colonel per business and 50 members. This group does have a small annual fee.</span></span>
LOCATION:The Loft (upstairs of Cunningham's Journal.)
UID:e.1404.1656
SEQUENCE:3
DTSTAMP:20260422T064718Z
URL:https://chambermaster.kearneycoc.org/events/details/colonels-christmas-party-12-08-2015-1656
END:VEVENT

END:VCALENDAR
