BEGIN:VCALENDAR
VERSION:2.0
PRODID:-//ChamberMaster//Event Calendar 2.0//EN
METHOD:PUBLISH
X-PUBLISHED-TTL:P3D
REFRESH-INTERVAL:P3D
CALSCALE:GREGORIAN
BEGIN:VEVENT
DTSTART:20160626T210000Z
DTEND:20160626T220000Z
X-MICROSOFT-CDO-ALLDAYEVENT:FALSE
SUMMARY:Community Building Block Party
DESCRIPTION:Join us for a Community Building Block Party! Do you wear a t-shirt to show the STRENGTH you bring to your community\, team\, workplace\, faith community or family?  Add your strengths in with others in your community.\n\nBring a new or used t-shirt to Harmon Park\, as a part of Community Olympics' closing ceremonies.  \n\nHelp us wrap the park in color and community strengths!\n\nT-shirts will be donated to Kearney Jubilee Center after event.
X-ALT-DESC;FMTTYPE=text/html:Join us for a Community Building Block Party! Do you wear a t-shirt to show the STRENGTH you bring to your community\, team\, workplace\, faith community or family? &nbsp\;Add your strengths in with others in your community.<br />\nBring a new or used t-shirt to Harmon Park\, as a part of Community Olympics&#39\; closing ceremonies. &nbsp\;<br />\nHelp us wrap the park in color and community strengths!<br />\nT-shirts will be donated to Kearney Jubilee Center after event.
LOCATION:Harmon Park South Side
UID:e.1404.8804
SEQUENCE:3
DTSTAMP:20260421T201918Z
URL:https://chambermaster.kearneycoc.org/events/details/community-building-block-party-06-26-2016-8804
END:VEVENT

END:VCALENDAR
