BEGIN:VCALENDAR
VERSION:2.0
PRODID:-//ChamberMaster//Event Calendar 2.0//EN
METHOD:PUBLISH
X-PUBLISHED-TTL:P3D
REFRESH-INTERVAL:P3D
CALSCALE:GREGORIAN
BEGIN:VEVENT
DTSTART:20201225T170000Z
DTEND:20201225T200000Z
X-MICROSOFT-CDO-ALLDAYEVENT:FALSE
SUMMARY:Community Christmas Dinner
DESCRIPTION:For the past 48 years\, the First United Methodist Church of Kearney has served a community Christmas meal. This year\, they are partnering with Hot Meals USA and various local nonprofits to expand this meal's reach and make sure our community receives a FREE Community Christmas Dinner in the Kearney area.
X-ALT-DESC;FMTTYPE=text/html:For the past 48 years\, the First United Methodist Church of Kearney has served a community Christmas meal. This year\, they are partnering with Hot Meals USA and various local nonprofits to expand this meal&#39\;s reach and make sure our community receives a FREE Community Christmas Dinner in the Kearney area.
LOCATION:Drive-Thru: Mom and Dad's BBQ\, 222 W. 42nd street - Kearney\, NE Delivery: Request meal delivery from the Kearney Jubilee Center at (308) 234-3880 by December 23rd.
UID:e.1404.18778
SEQUENCE:3
DTSTAMP:20260424T190958Z
URL:https://chambermaster.kearneycoc.org/events/details/community-christmas-dinner-18778
END:VEVENT

END:VCALENDAR
