BEGIN:VCALENDAR
VERSION:2.0
PRODID:-//ChamberMaster//Event Calendar 2.0//EN
METHOD:PUBLISH
X-PUBLISHED-TTL:P3D
REFRESH-INTERVAL:P3D
CALSCALE:GREGORIAN
BEGIN:VEVENT
DTSTART:20200212T133000Z
DTEND:20200212T143000Z
X-MICROSOFT-CDO-ALLDAYEVENT:FALSE
SUMMARY:Community Connections
DESCRIPTION:Don't have time to attend all 3 meetings. Join Chamber members for a roundtable discussion with elected officials from Kearney City Council\, Buffalo County Commissioners\, and the Kearney Public School Board. Community Connections is sponsored by Northwestern Energy.
X-ALT-DESC;FMTTYPE=text/html:Don&#39\;t have time to attend all 3 meetings. Join Chamber members for a roundtable discussion with elected officials from Kearney City Council\, Buffalo County Commissioners\, and the Kearney Public School Board. Community Connections is sponsored by <strong>Northwestern Energy</strong>.&nbsp\;
LOCATION:Kearney Area Chamber of Commerce Board room
UID:e.1404.108
SEQUENCE:3
DTSTAMP:20260425T113102Z
URL:https://chambermaster.kearneycoc.org/events/details/community-connections-02-12-2020-108
END:VEVENT

END:VCALENDAR
