BEGIN:VCALENDAR
VERSION:2.0
PRODID:-//ChamberMaster//Event Calendar 2.0//EN
METHOD:PUBLISH
X-PUBLISHED-TTL:P3D
REFRESH-INTERVAL:P3D
CALSCALE:GREGORIAN
BEGIN:VEVENT
DTSTART:20210310T133000Z
DTEND:20210310T143000Z
X-MICROSOFT-CDO-ALLDAYEVENT:FALSE
SUMMARY:Community Connections
DESCRIPTION:Join Chamber members for a roundtable discussion with elected officials from Kearney City Council\, Buffalo County Commissioners\, and the Kearney Public School Board. Community Connections is sponsored by Northwestern Energy.
X-ALT-DESC;FMTTYPE=text/html:Join Chamber members for a roundtable discussion with elected officials from Kearney City Council\, Buffalo County Commissioners\, and the Kearney Public School Board. Community Connections is sponsored by <strong>Northwestern Energy</strong>.&nbsp\;
LOCATION:In person at the Kearney Area Chamber of Commerce Board room\, Chamber Facebook page or via Zoom Zoom: https://zoom.us/j/3082373132 Meeting ID: 308 237 3132
UID:e.1404.121
SEQUENCE:3
DTSTAMP:20260424T140353Z
URL:https://chambermaster.kearneycoc.org/events/details/community-connections-03-10-2021-121
END:VEVENT

END:VCALENDAR
