BEGIN:VCALENDAR
VERSION:2.0
PRODID:-//ChamberMaster//Event Calendar 2.0//EN
METHOD:PUBLISH
X-PUBLISHED-TTL:P3D
REFRESH-INTERVAL:P3D
CALSCALE:GREGORIAN
BEGIN:VEVENT
DTSTART:20150715T123000Z
DTEND:20150715T133000Z
X-MICROSOFT-CDO-ALLDAYEVENT:FALSE
SUMMARY:Community Connections
DESCRIPTION:Join Chamber members for a roundtable discussion with elected officials from Kearney City Council\, Buffalo County Commissioners\, and the Kearney Public School Board. Community Connections is sponsored by Northwestern Energy.
X-ALT-DESC;FMTTYPE=text/html:Join Chamber members for a roundtable discussion with elected officials from Kearney City Council\, Buffalo County Commissioners\, and the Kearney Public School Board. Community Connections is sponsored by <strong>Northwestern Energy</strong>.&nbsp\;
LOCATION:Perkins Back Room 609 2nd Ave
UID:e.1404.53
SEQUENCE:3
DTSTAMP:20260422T151349Z
URL:https://chambermaster.kearneycoc.org/events/details/community-connections-07-15-2015-53
END:VEVENT

END:VCALENDAR
