BEGIN:VCALENDAR
VERSION:2.0
PRODID:-//ChamberMaster//Event Calendar 2.0//EN
METHOD:PUBLISH
X-PUBLISHED-TTL:P3D
REFRESH-INTERVAL:P3D
CALSCALE:GREGORIAN
BEGIN:VEVENT
DTSTART:20141015T123000Z
DTEND:20141015T133000Z
X-MICROSOFT-CDO-ALLDAYEVENT:FALSE
SUMMARY:Community Connections @ Perkins
DESCRIPTION:Join Chamber members and residents for a roundtable discussion with elected officials from Kearney City Council\, Buffalo County Board of Supervisors and the Kearney Public School Board. Community Connections is sponsored by Northwestern Energy.
X-ALT-DESC;FMTTYPE=text/html:Join Chamber members and residents for a roundtable discussion with elected officials from Kearney City Council\, Buffalo County Board of Supervisors and the Kearney Public School Board. Community Connections is sponsored by <strong>Northwestern Energy</strong>.&nbsp\;
LOCATION:Perkins Meeting Room
UID:e.1404.44
SEQUENCE:3
DTSTAMP:20260423T065605Z
URL:https://chambermaster.kearneycoc.org/events/details/community-connections-perkins-10-15-2014-44
END:VEVENT

END:VCALENDAR
