BEGIN:VCALENDAR
VERSION:2.0
PRODID:-//ChamberMaster//Event Calendar 2.0//EN
METHOD:PUBLISH
X-PUBLISHED-TTL:P3D
REFRESH-INTERVAL:P3D
CALSCALE:GREGORIAN
BEGIN:VEVENT
DTSTART:20191001T003000Z
DTEND:20191001T020000Z
X-MICROSOFT-CDO-ALLDAYEVENT:FALSE
SUMMARY:Concert on the Platte: Frahm-Lewis Trio with Margaret Miller\, viola
DESCRIPTION:Come 'Join in the Music' as the Concerts on the Platte series presents the Frahm-Lewis Trio. Made up of UNK faculty members Ting-Lan Chen (violin)\, Noah Rogoff (cello)\, and Nathan Buckner (piano)\, the Frahm-Lewis Trio performs standard and new repertoire for the piano trio. In this recital\, they will be joined by Margaret Miller\, viola. This event will be live streamed at the following link: http://www.unk.edu/academics/music/performing-art-live-stream-events.php
X-ALT-DESC;FMTTYPE=text/html:Come &#39\;Join in the Music&#39\; as the Concerts on the Platte series presents the Frahm-Lewis Trio. Made up of UNK faculty members Ting-Lan Chen (violin)\, Noah Rogoff (cello)\, and Nathan Buckner (piano)\, the Frahm-Lewis Trio performs standard and new repertoire for the piano trio. In this recital\, they will be joined by Margaret Miller\, viola. This event will be live streamed at the following link: http://www.unk.edu/academics/music/performing-art-live-stream-events.php
LOCATION:UNK FAB Recital Hall
UID:e.1404.16621
SEQUENCE:3
DTSTAMP:20260425T195737Z
URL:https://chambermaster.kearneycoc.org/events/details/concert-on-the-platte-frahm-lewis-trio-with-margaret-miller-viola-16621
END:VEVENT

END:VCALENDAR
