BEGIN:VCALENDAR
VERSION:2.0
PRODID:-//ChamberMaster//Event Calendar 2.0//EN
METHOD:PUBLISH
X-PUBLISHED-TTL:P3D
REFRESH-INTERVAL:P3D
CALSCALE:GREGORIAN
BEGIN:VEVENT
DTSTART:20200218T013000Z
DTEND:20200218T030000Z
X-MICROSOFT-CDO-ALLDAYEVENT:FALSE
SUMMARY:Concert-On-The-Platte: Noah Rogoff\, cello & Nathan Buckner\, piano
DESCRIPTION:Join us at the FAB for a Concert-on-the-Platte Recital by UNK's Faculty Dr. Noah Rogoff\, cello\, and Dr. Nathan Buckner piano. This recital is FREE and open to the public\, and will be livestreamed at http://www.unk.edu/academics/music/performing-art-live-stream-events.php.
X-ALT-DESC;FMTTYPE=text/html:Join us at the FAB for a Concert-on-the-Platte Recital by UNK&#39\;s Faculty Dr. Noah Rogoff\, cello\, and Dr. Nathan Buckner piano. This recital is FREE and open to the public\, and will be livestreamed at http://www.unk.edu/academics/music/performing-art-live-stream-events.php.
LOCATION:UNK FAB Recital Hall
UID:e.1404.18316
SEQUENCE:3
DTSTAMP:20260425T114336Z
URL:https://chambermaster.kearneycoc.org/events/details/concert-on-the-platte-noah-rogoff-cello-nathan-buckner-piano-18316
END:VEVENT

END:VCALENDAR
