BEGIN:VCALENDAR
VERSION:2.0
PRODID:-//ChamberMaster//Event Calendar 2.0//EN
METHOD:PUBLISH
X-PUBLISHED-TTL:P3D
REFRESH-INTERVAL:P3D
CALSCALE:GREGORIAN
BEGIN:VEVENT
DTSTART:20191214T170000Z
DTEND:20191214T190000Z
X-MICROSOFT-CDO-ALLDAYEVENT:FALSE
SUMMARY:Cookie Walk on the Bricks
DESCRIPTION:What could be better than a box full of cookies to share with special people? Come to Downtown Kearney for their 3rd annual Cookie Walk on Saturday\, December 14th from 11 AM   1 PM. Buy a box and map for $10 cash in advance or on the day of the event at 24 Hour Tees\, Ktown Cakery or The Solid Rock while quantities last and then walk around to participating businesses to collect assorted cookies   one cookie from each business for each box. Boxes go on sale on Monday\, November 18th and there are only 150 available. This event sells out. Get your box before they're gone!
X-ALT-DESC;FMTTYPE=text/html:What could be better than a box full of cookies to share with special people? Come to Downtown Kearney for their 3rd annual Cookie Walk on Saturday\, December 14th from 11 AM &ndash\; 1 PM. Buy a box and map for $10 cash in advance or on the day of the event at 24 Hour Tees\, Ktown Cakery or The Solid Rock while quantities last and then walk around to participating businesses to collect assorted cookies &ndash\; one cookie from each business for each box. Boxes go on sale on Monday\, November 18th and there are only 150 available. This event sells out. Get your box before they&#39\;re gone!
LOCATION:Downtown Kearney
UID:e.1404.18263
SEQUENCE:3
DTSTAMP:20260425T145849Z
URL:https://chambermaster.kearneycoc.org/events/details/cookie-walk-on-the-bricks-18263
END:VEVENT

END:VCALENDAR
