BEGIN:VCALENDAR
VERSION:2.0
PRODID:-//ChamberMaster//Event Calendar 2.0//EN
METHOD:PUBLISH
X-PUBLISHED-TTL:P3D
REFRESH-INTERVAL:P3D
CALSCALE:GREGORIAN
BEGIN:VEVENT
DTSTART:20190614T130000Z
DTEND:20190614T200000Z
X-MICROSOFT-CDO-ALLDAYEVENT:FALSE
SUMMARY:Cool Chemistry Camp
DESCRIPTION:Science is a blast and children will enjoy a variety of hands-on activities that teach chemistry basics with colors\, scents\, molecules\, and food! We may even experience some slimy and gross things along the way!\n\nAges 4-10\n\nActivities will include:\n\n1. Chemistry is Colorful\n\n2. Make a Battery\n\n3. Molecules in Motion\n\nActivities are provided by the NISE Network through their "Let's Do Chemistry" kits the museum received for educational purposes.\n\n\n\nChildren need to bring a sack lunch.
X-ALT-DESC;FMTTYPE=text/html:Science is a blast and children will enjoy a variety of hands-on activities that teach chemistry basics with colors\, scents\, molecules\, and food! We may even experience some slimy and gross things along the way!<br />\nAges 4-10<br />\nActivities will include:<br />\n1. Chemistry is Colorful<br />\n2. Make a Battery<br />\n3. Molecules in Motion<br />\nActivities are provided by the NISE Network through their &ldquo\;Let&rsquo\;s Do Chemistry&rdquo\; kits the museum received for educational purposes.<br />\n<br />\n<span style="color:#FF0000"><strong>Children need to bring a sack lunch.</strong></span>
LOCATION:Kearney Area Children's Museum The Alia Arram Memorial Building\, 5827 4th Ave\, Kearney\, NE 68845
UID:e.1404.16538
SEQUENCE:3
DTSTAMP:20260426T003815Z
URL:https://chambermaster.kearneycoc.org/events/details/cool-chemistry-camp-16538
END:VEVENT

END:VCALENDAR
