BEGIN:VCALENDAR
VERSION:2.0
PRODID:-//ChamberMaster//Event Calendar 2.0//EN
METHOD:PUBLISH
X-PUBLISHED-TTL:P3D
REFRESH-INTERVAL:P3D
CALSCALE:GREGORIAN
BEGIN:VEVENT
DTSTART:20201017T140000Z
DTEND:20201017T230000Z
X-MICROSOFT-CDO-ALLDAYEVENT:FALSE
SUMMARY:Cornhole Tournament
DESCRIPTION:4 game guarantee with a 100% cash payout for the top 3 teams. $40 per two person pre-registered team. $50 registration at the door.
X-ALT-DESC;FMTTYPE=text/html:4 game guarantee with a 100% cash payout for the top 3 teams. $40 per two person pre-registered team. $50 registration at the door.
LOCATION:The Village - 1920 A Ave
UID:e.1404.18719
SEQUENCE:3
DTSTAMP:20260424T222805Z
URL:https://chambermaster.kearneycoc.org/events/details/cornhole-tournament-10-17-2020-18719
END:VEVENT

END:VCALENDAR
