BEGIN:VCALENDAR
VERSION:2.0
PRODID:-//ChamberMaster//Event Calendar 2.0//EN
METHOD:PUBLISH
X-PUBLISHED-TTL:P3D
REFRESH-INTERVAL:P3D
CALSCALE:GREGORIAN
BEGIN:VEVENT
DTSTART:20220910T170000Z
DTEND:20220910T220000Z
X-MICROSOFT-CDO-ALLDAYEVENT:FALSE
SUMMARY:Cornhole Tournament Fundraiser
DESCRIPTION:Join TEAM PT at the Upper Room Brewery Saturday\, September 10th for a cornhole tournament fundraiser for Walk to End Alzheimer's!! Join us for a Husker tailgate cornhole tournament and hor'dourvers before kick off!\n\n\n\nCash prizes for 1st and 2nd place and enter a drawing to win a cornhole set!\n\n\n\nRegistration   12:00-1:00\, 2-person teams\, $30 per team (with proceeds going to the Walk to End Alzheimer's!)\n\nToss Time   1:00
X-ALT-DESC;FMTTYPE=text/html:<br />\n<span style="font-size:14px\;"><span style="font-family:arial\;">Join TEAM PT at the Upper Room Brewery <strong>Saturday\, September 10th</strong> for a cornhole tournament fundraiser for Walk to End Alzheimer&#39\;s!! Join us for a Husker tailgate cornhole tournament and hor&rsquo\;dourvers before kick off!<br />\n<br />\nCash prizes for 1st and 2nd place and enter a drawing to win a cornhole set!<br />\n<br />\nRegistration &ndash\; 12:00-1:00\, 2-person teams\, $30 per team (</span></span><span style="font-family: arial\; font-size: 14px\;">with proceeds going to the Walk to End Alzheimer&#39\;s!)</span><br />\n<span style="font-size:14px\;"><span style="font-family:arial\;">Toss Time &ndash\; 1:00</span></span><br />\n<br />\n&nbsp\;
LOCATION:Upper Room Brewery
UID:e.1404.20058
SEQUENCE:3
DTSTAMP:20260421T115407Z
URL:https://chambermaster.kearneycoc.org/events/details/cornhole-tournament-fundraiser-20058
END:VEVENT

END:VCALENDAR
