BEGIN:VCALENDAR
VERSION:2.0
PRODID:-//ChamberMaster//Event Calendar 2.0//EN
METHOD:PUBLISH
X-PUBLISHED-TTL:P3D
REFRESH-INTERVAL:P3D
CALSCALE:GREGORIAN
BEGIN:VEVENT
DTSTART:20160618T150000Z
DTEND:20160618T200000Z
X-MICROSOFT-CDO-ALLDAYEVENT:FALSE
SUMMARY:Corvettes at the Arch
DESCRIPTION:Free Corvette show at the Archway! Passes for the Arch Tour will be available for a discount.\n\n\n\nSchedule of events:\n\nRegistration - 10:00 -11:30 a.m. (Free t-shirt to first 50 entries)\n\nShow - 12:00 - 3:00 p.m.\n\nTrophies at 2:30 p.m.\n\nFood will be available for purchase.\n\n\n\nVote for: People's Choice\, Best in Show\, Top 10\, Personal Plate (Votes must be submitted by 2 p.m.)\n\n\n\nFor more event information or registration forms\, go to:\n\nwww.archwaycorvetteclub.com or call Jeff at 308-440-3437 or Glen at 402-616-9292
X-ALT-DESC;FMTTYPE=text/html:Free Corvette show at the Archway! Passes for the Arch Tour will be available for a discount.<br />\n<br />\n<u>Schedule of events:</u><br />\nRegistration - 10:00 -11:30 a.m. (<span style="line-height: 20.8px\;">Free t-shirt to first 50 entries)</span><br />\nShow - 12:00 - 3:00 p.m.<br />\nTrophies at 2:30 p.m.<br />\n<em>Food will be available for purchase.</em><br />\n<br />\nVote for: People&#39\;s Choice\, Best in Show\, Top 10\, Personal Plate (Votes must be submitted by 2 p.m.)<br />\n<br />\n<strong>For more event information or registration forms\, go to:<br />\n<a href="http://www.archwaycorvetteclub.com">www.archwaycorvetteclub.com</a>&nbsp\;or call Jeff at 308-440-3437 or Glen at 402-616-9292</strong>
LOCATION:Archway West Parking Lot 3060 E. 1st St.
UID:e.1404.8757
SEQUENCE:3
DTSTAMP:20260421T201911Z
URL:https://chambermaster.kearneycoc.org/events/details/corvettes-at-the-arch-06-18-2016-8757
END:VEVENT

END:VCALENDAR
