BEGIN:VCALENDAR
VERSION:2.0
PRODID:-//ChamberMaster//Event Calendar 2.0//EN
METHOD:PUBLISH
X-PUBLISHED-TTL:P3D
REFRESH-INTERVAL:P3D
CALSCALE:GREGORIAN
BEGIN:VEVENT
DTSTART:20160421T213000Z
DTEND:20160421T233000Z
X-MICROSOFT-CDO-ALLDAYEVENT:FALSE
SUMMARY:CountryHouse Spring Open House
DESCRIPTION:Beer\, wine\, appetizers   drawing for $250 gift card to Earl May Nursery Center.\n\nSpeak with experts about Alzheimer's and memory care.\n\nCall 308-455-4274 for more information   no RSVP required!
X-ALT-DESC;FMTTYPE=text/html:<span style="color:#1F497D\;">Beer\, wine\, appetizers &ndash\; drawing for $250 gift card to Earl May Nursery Center.</span><br />\n<span style="color:#1F497D\;">Speak with experts about Alzheimer&rsquo\;s and memory care.</span><br />\n<span style="color:#1F497D\;">Call 308-455-4274 for more information &ndash\; no RSVP required!</span>
LOCATION:5605 K Ave. Kearney Ave.
UID:e.1404.8710
SEQUENCE:3
DTSTAMP:20260422T012119Z
URL:https://chambermaster.kearneycoc.org/events/details/countryhouse-spring-open-house-04-21-2016-8710
END:VEVENT

END:VCALENDAR
